BEGIN:VCALENDAR
VERSION:2.0
PRODID:-//WMI - ECPv6.15.17.1//NONSGML v1.0//EN
CALSCALE:GREGORIAN
METHOD:PUBLISH
X-ORIGINAL-URL:https://wmi.edu.sg
X-WR-CALDESC:Events for WMI
REFRESH-INTERVAL;VALUE=DURATION:PT1H
X-Robots-Tag:noindex
X-PUBLISHED-TTL:PT1H
BEGIN:VTIMEZONE
TZID:Asia/Singapore
BEGIN:STANDARD
TZOFFSETFROM:+0800
TZOFFSETTO:+0800
TZNAME:+08
DTSTART:20230101T000000
END:STANDARD
END:VTIMEZONE
BEGIN:VEVENT
DTSTART;VALUE=DATE:20241104
DTEND;VALUE=DATE:20241105
DTSTAMP:20260420T141425
CREATED:20230801T042850Z
LAST-MODIFIED:20240618T041015Z
UID:10000136-1730678400-1730764799@wmi.edu.sg
SUMMARY:Certificate for Family Office Practitioner - Family Office Investments
DESCRIPTION:
URL:https://wmi.edu.sg/wmi-event/certified-family-office-practitioner-certificate-in-principles-of-investing-for-the-family/
CATEGORIES:Family Office
END:VEVENT
BEGIN:VEVENT
DTSTART;VALUE=DATE:20241106
DTEND;VALUE=DATE:20241109
DTSTAMP:20260420T141425
CREATED:20240115T045817Z
LAST-MODIFIED:20240422T014638Z
UID:10000215-1730851200-1731110399@wmi.edu.sg
SUMMARY:Certificate in Multi-Asset Investing
DESCRIPTION:
URL:https://wmi.edu.sg/wmi-event/certificate-in-multi-asset-investing/
CATEGORIES:Investing and Asset Management
END:VEVENT
END:VCALENDAR