BEGIN:VCALENDAR
VERSION:2.0
PRODID:-//WMI - ECPv6.15.17.1//NONSGML v1.0//EN
CALSCALE:GREGORIAN
METHOD:PUBLISH
X-ORIGINAL-URL:https://wmi.edu.sg
X-WR-CALDESC:Events for WMI
REFRESH-INTERVAL;VALUE=DURATION:PT1H
X-Robots-Tag:noindex
X-PUBLISHED-TTL:PT1H
BEGIN:VTIMEZONE
TZID:Asia/Singapore
BEGIN:STANDARD
TZOFFSETFROM:+0800
TZOFFSETTO:+0800
TZNAME:+08
DTSTART:20230101T000000
END:STANDARD
END:VTIMEZONE
BEGIN:VEVENT
DTSTART;VALUE=DATE:20241029
DTEND;VALUE=DATE:20241031
DTSTAMP:20260420T141406
CREATED:20230502T160000Z
LAST-MODIFIED:20240729T061915Z
UID:10000054-1730160000-1730332799@wmi.edu.sg
SUMMARY:Certificate in International Tax Considerations for Families of Wealth
DESCRIPTION:
URL:https://wmi.edu.sg/wmi-event/certificate-in-international-tax-considerations-for-family-wealth/
CATEGORIES:Trust Services
END:VEVENT
END:VCALENDAR