BEGIN:VCALENDAR
VERSION:2.0
PRODID:-//WMI - ECPv6.15.17.1//NONSGML v1.0//EN
CALSCALE:GREGORIAN
METHOD:PUBLISH
X-ORIGINAL-URL:https://wmi.edu.sg
X-WR-CALDESC:Events for WMI
REFRESH-INTERVAL;VALUE=DURATION:PT1H
X-Robots-Tag:noindex
X-PUBLISHED-TTL:PT1H
BEGIN:VTIMEZONE
TZID:Asia/Singapore
BEGIN:STANDARD
TZOFFSETFROM:+0800
TZOFFSETTO:+0800
TZNAME:+08
DTSTART:20230101T000000
END:STANDARD
END:VTIMEZONE
BEGIN:VEVENT
DTSTART;VALUE=DATE:20240301
DTEND;VALUE=DATE:20240331
DTSTAMP:20260420T213801
CREATED:20230725T174743Z
LAST-MODIFIED:20231013T091445Z
UID:10000087-1709251200-1711843199@wmi.edu.sg
SUMMARY:Certified Private Banker (CPB) Level 1 - Ethical Conduct (Online)
DESCRIPTION:
URL:https://wmi.edu.sg/wmi-event/certified-private-banker-cpb-level-1-ethical-conduct-online/
CATEGORIES:Private Banking
END:VEVENT
BEGIN:VEVENT
DTSTART;VALUE=DATE:20240301
DTEND;VALUE=DATE:20240331
DTSTAMP:20260420T213801
CREATED:20230725T175812Z
LAST-MODIFIED:20231013T091559Z
UID:10000088-1709251200-1711843199@wmi.edu.sg
SUMMARY:Certified Private Banker (CPB) Level 2 - Ethical Conduct
DESCRIPTION:
URL:https://wmi.edu.sg/wmi-event/certified-private-banker-cpb-level-2-ethical-conduct/
CATEGORIES:Private Banking
END:VEVENT
BEGIN:VEVENT
DTSTART;VALUE=DATE:20240311
DTEND;VALUE=DATE:20240313
DTSTAMP:20260420T213801
CREATED:20231013T092129Z
LAST-MODIFIED:20231013T092310Z
UID:10000190-1710115200-1710287999@wmi.edu.sg
SUMMARY:Dalio Market Principles Program - Certificate in Economic Principles
DESCRIPTION:
URL:https://wmi.edu.sg/wmi-event/dalio-market-principles-program-certificate-in-economic-principles/
CATEGORIES:Investing and Asset Management
END:VEVENT
BEGIN:VEVENT
DTSTART;VALUE=DATE:20240311
DTEND;VALUE=DATE:20240316
DTSTAMP:20260420T213801
CREATED:20231013T092002Z
LAST-MODIFIED:20231013T092055Z
UID:10000189-1710115200-1710547199@wmi.edu.sg
SUMMARY:Dalio Market Principles Program
DESCRIPTION:
URL:https://wmi.edu.sg/wmi-event/dalio-market-principles-program/
CATEGORIES:Investing and Asset Management
END:VEVENT
BEGIN:VEVENT
DTSTART;VALUE=DATE:20240313
DTEND;VALUE=DATE:20240316
DTSTAMP:20260420T213801
CREATED:20231013T092225Z
LAST-MODIFIED:20231013T092225Z
UID:10000191-1710288000-1710547199@wmi.edu.sg
SUMMARY:Dalio Market Principles Program - Certificate in Investment Principles
DESCRIPTION:
URL:https://wmi.edu.sg/wmi-event/dalio-market-principles-program-certificate-in-investment-principles/
CATEGORIES:Investing and Asset Management
END:VEVENT
BEGIN:VEVENT
DTSTART;VALUE=DATE:20240315
DTEND;VALUE=DATE:20240316
DTSTAMP:20260420T213801
CREATED:20240228T085921Z
LAST-MODIFIED:20240228T090715Z
UID:10000234-1710460800-1710547199@wmi.edu.sg
SUMMARY:Family Office Risk Management and Controls
DESCRIPTION:
URL:https://wmi.edu.sg/wmi-event/family-office-risk-management-controls-march24/
CATEGORIES:Family Office
END:VEVENT
END:VCALENDAR