BEGIN:VCALENDAR
VERSION:2.0
PRODID:-//WMI - ECPv6.15.17.1//NONSGML v1.0//EN
CALSCALE:GREGORIAN
METHOD:PUBLISH
X-ORIGINAL-URL:https://wmi.edu.sg
X-WR-CALDESC:Events for WMI
REFRESH-INTERVAL;VALUE=DURATION:PT1H
X-Robots-Tag:noindex
X-PUBLISHED-TTL:PT1H
BEGIN:VTIMEZONE
TZID:Asia/Singapore
BEGIN:STANDARD
TZOFFSETFROM:+0800
TZOFFSETTO:+0800
TZNAME:+08
DTSTART:20220101T000000
END:STANDARD
END:VTIMEZONE
BEGIN:VEVENT
DTSTART;TZID=Asia/Singapore:20230830T170000
DTEND;TZID=Asia/Singapore:20230830T180000
DTSTAMP:20260425T232141
CREATED:20230801T065843Z
LAST-MODIFIED:20230803T070046Z
UID:10000162-1693414800-1693418400@wmi.edu.sg
SUMMARY:Online Info Sessions – Certified Compliance Officer
DESCRIPTION:Get a chance to speak with our team in an online information session to learn more about WMI’s Certified Compliance Officer programme. We are happy to offer an overview of the programme and any enquiries you may have about WMI in this one-hour virtual session. \n  \nRegister your interest here.
URL:https://wmi.edu.sg/wmi-event/online-info-session-certified-compliance-officer-30-aug/
CATEGORIES:Events
ATTACH;FMTTYPE=image/png:https://wmi.edu.sg/wp-content/uploads/2023/05/Events-Certified-Compliance-Officer-Online-Info-Session.png
END:VEVENT
BEGIN:VEVENT
DTSTART;TZID=Asia/Singapore:20230831T170000
DTEND;TZID=Asia/Singapore:20230831T180000
DTSTAMP:20260425T232141
CREATED:20230801T065336Z
LAST-MODIFIED:20230802T084025Z
UID:10000158-1693501200-1693504800@wmi.edu.sg
SUMMARY:Online Info Session – Compliance Diplomas & Certified Compliance Officer Advanced Programmes
DESCRIPTION:Get a chance to speak with our team in an online information session to learn more about WMI’s Compliance Diplomas and Certified Compliance Officer Advanced programmes. We are happy to offer an overview of the programme and any enquiries you may have about WMI in this one-hour virtual session. \n  \nRegister your interest here.
URL:https://wmi.edu.sg/wmi-event/online-info-session-compliance-diplomas-certified-compliance-advanced-programmes-31-aug/
CATEGORIES:Events
ATTACH;FMTTYPE=image/png:https://wmi.edu.sg/wp-content/uploads/2023/04/Events-Compliance-Diplomas-Certified-Compliance-Officer-Advanced-Online-Info-Session.png
END:VEVENT
END:VCALENDAR