BEGIN:VCALENDAR
VERSION:2.0
PRODID:-//WMI - ECPv6.15.17.1//NONSGML v1.0//EN
CALSCALE:GREGORIAN
METHOD:PUBLISH
X-ORIGINAL-URL:https://wmi.edu.sg
X-WR-CALDESC:Events for WMI
REFRESH-INTERVAL;VALUE=DURATION:PT1H
X-Robots-Tag:noindex
X-PUBLISHED-TTL:PT1H
BEGIN:VTIMEZONE
TZID:Asia/Singapore
BEGIN:STANDARD
TZOFFSETFROM:+0800
TZOFFSETTO:+0800
TZNAME:+08
DTSTART:20220101T000000
END:STANDARD
END:VTIMEZONE
BEGIN:VEVENT
DTSTART;TZID=Asia/Singapore:20230609T083000
DTEND;TZID=Asia/Singapore:20230609T121500
DTSTAMP:20260426T073345
CREATED:20230723T100025Z
LAST-MODIFIED:20240202T011239Z
UID:10000068-1686299400-1686312900@wmi.edu.sg
SUMMARY:Impact Philanthropy Partnership Forum 2023
DESCRIPTION:How can philanthropy and impact capital play a catalytic role in solving some of society’s most pressing challenges\, such as the climate crisis? \n  \nAttendees heard from our panel of experts on how philanthropists can play a decisive role in creating transformative change and from pioneering family principals and thought leaders in the impact space  on how to make a real and measurable difference. \n  \nSpeaker(s): \n\nMs Gillian Tan\nDr Christopher Elias\nMs Dawn Chan\nand more
URL:https://wmi.edu.sg/wmi-event/ipp-forum-2023-accelerating-catalytic-philanthropy-sustainable-futures-beyond-writing-the-cheque/
LOCATION:Big Picture Theatre\, Capital Tower\, 168 Robinson Road\, #09-03\, 068912\, Singapore
CATEGORIES:GFO-Circle Events,IPP Forum,Events
ATTACH;FMTTYPE=image/jpeg:https://wmi.edu.sg/wp-content/uploads/2023/07/Impact-Philanthropy-Partnership-Forum-2023.jpg
END:VEVENT
END:VCALENDAR