BEGIN:VCALENDAR
VERSION:2.0
PRODID:-//WMI - ECPv6.15.17.1//NONSGML v1.0//EN
CALSCALE:GREGORIAN
METHOD:PUBLISH
X-WR-CALNAME:WMI
X-ORIGINAL-URL:https://wmi.edu.sg
X-WR-CALDESC:Events for WMI
REFRESH-INTERVAL;VALUE=DURATION:PT1H
X-Robots-Tag:noindex
X-PUBLISHED-TTL:PT1H
BEGIN:VTIMEZONE
TZID:Asia/Singapore
BEGIN:STANDARD
TZOFFSETFROM:+0800
TZOFFSETTO:+0800
TZNAME:+08
DTSTART:20220101T000000
END:STANDARD
END:VTIMEZONE
BEGIN:VEVENT
DTSTART;TZID=Asia/Singapore:20230328T163000
DTEND;TZID=Asia/Singapore:20230328T193000
DTSTAMP:20260426T100934
CREATED:20230502T160000Z
LAST-MODIFIED:20240202T011349Z
UID:10000039-1680021000-1680031800@wmi.edu.sg
SUMMARY:Launch of the Impact Philanthropy Partnership
DESCRIPTION:The Impact Philanthropy Partnership (IPP) is an exciting new partnership between WMI\, the Monetary Authority of Singapore (MAS) and the Private Banking Industry Group (PBIG)\, which will bring together family principals and offices to collectively tackle society’s most pressing challenges and issues. \n  \nFor the launch of the initiative\, we started by exploring what ‘success’ means in terms of philanthropy and impact\, and how you may start thinking about your own impact and legacy. \n  \nAttendees heard directly from noted philanthropists and impact investors on how their families embarked on their own journeys. How they decided which causes to support\, how they managed it within their family governance structure\, and how their approach evolved over time? \n  \nSpeaker(s): \n\nMr Arnaud Tellier\nMr Lee Han Shih\nMr Frederick Tsao\nand more
URL:https://wmi.edu.sg/wmi-event/launch-of-the-impact-philanthropy-partnership-forging-your-familys-impact-path-what-success-looks-like-for-you/
CATEGORIES:GFO-Circle Events,IPP Forum,Events
ATTACH;FMTTYPE=image/jpeg:https://wmi.edu.sg/wp-content/uploads/2023/05/Launch-of-the-Impact-Philanthropy-Partnership-scaled.jpg
END:VEVENT
END:VCALENDAR