BEGIN:VCALENDAR
VERSION:2.0
PRODID:-//WMI - ECPv6.15.17.1//NONSGML v1.0//EN
CALSCALE:GREGORIAN
METHOD:PUBLISH
X-WR-CALNAME:WMI
X-ORIGINAL-URL:https://wmi.edu.sg
X-WR-CALDESC:Events for WMI
REFRESH-INTERVAL;VALUE=DURATION:PT1H
X-Robots-Tag:noindex
X-PUBLISHED-TTL:PT1H
BEGIN:VTIMEZONE
TZID:Asia/Singapore
BEGIN:STANDARD
TZOFFSETFROM:+0800
TZOFFSETTO:+0800
TZNAME:+08
DTSTART:20220101T000000
END:STANDARD
END:VTIMEZONE
BEGIN:VEVENT
DTSTART;VALUE=DATE:20230315
DTEND;VALUE=DATE:20230316
DTSTAMP:20260426T120803
CREATED:20240111T040132Z
LAST-MODIFIED:20240202T011426Z
UID:10000209-1678838400-1678924799@wmi.edu.sg
SUMMARY:Long-Term Investing Across Generations: Navigating Global Challenges
DESCRIPTION:Managing investments for long-term success across multiple generations is often a major challenge for families and family offices. With over 900 years of history\, the Princely Family of Liechtenstein has not only built a successful nation but has grown a range of business activities and investments that are committed to doing good. What does legacy mean to the family and how do they invest for multi-generational success? \n  \nAttendees heard from H.S.H Prince Maximilian on his personal experience in managing intergenerational dynamics and upholding family values in succession planning. As Chairman of LGT Group Foundation\, he also shared insights on how the family plans to invest and give strategically and sustainably amidst the uncertain economic forecast\, to create social and economic value for future generations. \n  \nSpeaker:  \n\nH.S.H. Prince Max von und zu Liechtenstein
URL:https://wmi.edu.sg/wmi-event/long-term-investing-generations/
CATEGORIES:GFO-Circle Events,Events
ATTACH;FMTTYPE=image/jpeg:https://wmi.edu.sg/wp-content/uploads/2024/01/Long-Term-Investing-across-Generations.jpg
END:VEVENT
END:VCALENDAR