BEGIN:VCALENDAR
VERSION:2.0
PRODID:-//WMI - ECPv6.15.17.1//NONSGML v1.0//EN
CALSCALE:GREGORIAN
METHOD:PUBLISH
X-WR-CALNAME:WMI
X-ORIGINAL-URL:https://wmi.edu.sg
X-WR-CALDESC:Events for WMI
REFRESH-INTERVAL;VALUE=DURATION:PT1H
X-Robots-Tag:noindex
X-PUBLISHED-TTL:PT1H
BEGIN:VTIMEZONE
TZID:Asia/Singapore
BEGIN:STANDARD
TZOFFSETFROM:+0800
TZOFFSETTO:+0800
TZNAME:+08
DTSTART:20220101T000000
END:STANDARD
END:VTIMEZONE
BEGIN:VEVENT
DTSTART;TZID=Asia/Singapore:20230907T170000
DTEND;TZID=Asia/Singapore:20230907T180000
DTSTAMP:20260420T154331
CREATED:20230829T045535Z
LAST-MODIFIED:20230829T045535Z
UID:10000175-1694106000-1694109600@wmi.edu.sg
SUMMARY:Online Info Session – Compliance Diplomas & Certified Compliance Officer Advanced Programmes
DESCRIPTION:Get a chance to speak with our team in an online information session to learn more about WMI’s Compliance Diplomas and Certified Compliance Officer Advanced programmes. We are happy to offer an overview of the programme and any enquiries you may have about WMI in this one-hour virtual session. \n  \nRegister your interest here.
URL:https://wmi.edu.sg/wmi-event/online-info-session-compliance-diplomas-certified-compliance-officer-advanced-programmes-7-sep/
CATEGORIES:Events
ATTACH;FMTTYPE=image/png:https://wmi.edu.sg/wp-content/uploads/2023/04/Events-Compliance-Diplomas-Certified-Compliance-Officer-Advanced-Online-Info-Session.png
END:VEVENT
BEGIN:VEVENT
DTSTART;VALUE=DATE:20230905
DTEND;VALUE=DATE:20230912
DTSTAMP:20260420T154331
CREATED:20230728T100053Z
LAST-MODIFIED:20230803T054806Z
UID:10000111-1693872000-1694476799@wmi.edu.sg
SUMMARY:Advanced Diploma in Asset Management - The World of Asset Management – An Overview
DESCRIPTION:
URL:https://wmi.edu.sg/wmi-event/advanced-diploma-in-asset-management-the-world-of-asset-management-an-overview-2/
CATEGORIES:Diploma Programmes,Investing and Asset Management
END:VEVENT
BEGIN:VEVENT
DTSTART;VALUE=DATE:20230905
DTEND;VALUE=DATE:20230907
DTSTAMP:20260420T154331
CREATED:20230726T022214Z
LAST-MODIFIED:20230726T053447Z
UID:10000090-1693872000-1694044799@wmi.edu.sg
SUMMARY:Certified Private Banker (CPB) Level 3 - Leading People
DESCRIPTION:
URL:https://wmi.edu.sg/wmi-event/certified-private-banker-cpb-level-3-leading-people/
CATEGORIES:Private Banking
END:VEVENT
BEGIN:VEVENT
DTSTART;TZID=Asia/Singapore:20230831T170000
DTEND;TZID=Asia/Singapore:20230831T180000
DTSTAMP:20260420T154331
CREATED:20230801T065336Z
LAST-MODIFIED:20230802T084025Z
UID:10000158-1693501200-1693504800@wmi.edu.sg
SUMMARY:Online Info Session – Compliance Diplomas & Certified Compliance Officer Advanced Programmes
DESCRIPTION:Get a chance to speak with our team in an online information session to learn more about WMI’s Compliance Diplomas and Certified Compliance Officer Advanced programmes. We are happy to offer an overview of the programme and any enquiries you may have about WMI in this one-hour virtual session. \n  \nRegister your interest here.
URL:https://wmi.edu.sg/wmi-event/online-info-session-compliance-diplomas-certified-compliance-advanced-programmes-31-aug/
CATEGORIES:Events
ATTACH;FMTTYPE=image/png:https://wmi.edu.sg/wp-content/uploads/2023/04/Events-Compliance-Diplomas-Certified-Compliance-Officer-Advanced-Online-Info-Session.png
END:VEVENT
BEGIN:VEVENT
DTSTART;TZID=Asia/Singapore:20230830T170000
DTEND;TZID=Asia/Singapore:20230830T180000
DTSTAMP:20260420T154331
CREATED:20230801T065843Z
LAST-MODIFIED:20230803T070046Z
UID:10000162-1693414800-1693418400@wmi.edu.sg
SUMMARY:Online Info Sessions – Certified Compliance Officer
DESCRIPTION:Get a chance to speak with our team in an online information session to learn more about WMI’s Certified Compliance Officer programme. We are happy to offer an overview of the programme and any enquiries you may have about WMI in this one-hour virtual session. \n  \nRegister your interest here.
URL:https://wmi.edu.sg/wmi-event/online-info-session-certified-compliance-officer-30-aug/
CATEGORIES:Events
ATTACH;FMTTYPE=image/png:https://wmi.edu.sg/wp-content/uploads/2023/05/Events-Certified-Compliance-Officer-Online-Info-Session.png
END:VEVENT
BEGIN:VEVENT
DTSTART;TZID=Asia/Singapore:20230824T170000
DTEND;TZID=Asia/Singapore:20230824T180000
DTSTAMP:20260420T154331
CREATED:20230801T065239Z
LAST-MODIFIED:20230803T070303Z
UID:10000157-1692896400-1692900000@wmi.edu.sg
SUMMARY:Online Info Session – Compliance Diplomas & Certified Compliance Officer Advanced Programmes
DESCRIPTION:Get a chance to speak with our team in an online information session to learn more about WMI’s Compliance Diplomas and Certified Compliance Officer Advanced programmes. We are happy to offer an overview of the programme and any enquiries you may have about WMI in this one-hour virtual session. \n  \nRegister your interest here.
URL:https://wmi.edu.sg/wmi-event/online-info-session-compliance-diplomas-certified-compliance-advanced-programmes-24-aug/
CATEGORIES:Events
ATTACH;FMTTYPE=image/png:https://wmi.edu.sg/wp-content/uploads/2023/04/Events-Compliance-Diplomas-Certified-Compliance-Officer-Advanced-Online-Info-Session.png
END:VEVENT
BEGIN:VEVENT
DTSTART;VALUE=DATE:20230824
DTEND;VALUE=DATE:20230825
DTSTAMP:20260420T154331
CREATED:20230725T172154Z
LAST-MODIFIED:20230725T172154Z
UID:10000084-1692835200-1692921599@wmi.edu.sg
SUMMARY:Certified Private Banker (CPB) Level 1 - Market Specialisation (China)
DESCRIPTION:
URL:https://wmi.edu.sg/wmi-event/certified-private-banker-cpb-level-1-market-specialisation-china/
CATEGORIES:Private Banking
END:VEVENT
BEGIN:VEVENT
DTSTART;TZID=Asia/Singapore:20230823T170000
DTEND;TZID=Asia/Singapore:20230823T180000
DTSTAMP:20260420T154331
CREATED:20230801T065754Z
LAST-MODIFIED:20230803T070225Z
UID:10000161-1692810000-1692813600@wmi.edu.sg
SUMMARY:Online Info Sessions – Certified Compliance Officer
DESCRIPTION:Get a chance to speak with our team in an online information session to learn more about WMI’s Certified Compliance Officer programme. We are happy to offer an overview of the programme and any enquiries you may have about WMI in this one-hour virtual session. \n  \nRegister your interest here.
URL:https://wmi.edu.sg/wmi-event/online-info-session-certified-compliance-officer-23-aug/
CATEGORIES:Events
ATTACH;FMTTYPE=image/png:https://wmi.edu.sg/wp-content/uploads/2023/05/Events-Certified-Compliance-Officer-Online-Info-Session.png
END:VEVENT
BEGIN:VEVENT
DTSTART;VALUE=DATE:20230823
DTEND;VALUE=DATE:20230826
DTSTAMP:20260420T154331
CREATED:20230728T095253Z
LAST-MODIFIED:20230803T054825Z
UID:10000110-1692748800-1693007999@wmi.edu.sg
SUMMARY:Advanced Diploma in Asset Management - Alternatives Primer
DESCRIPTION:
URL:https://wmi.edu.sg/wmi-event/advanced-diploma-in-asset-management-alternatives-primer/
CATEGORIES:Diploma Programmes,Investing and Asset Management
END:VEVENT
BEGIN:VEVENT
DTSTART;TZID=Asia/Singapore:20230817T170000
DTEND;TZID=Asia/Singapore:20230817T190000
DTSTAMP:20260420T154331
CREATED:20230801T070136Z
LAST-MODIFIED:20230802T083540Z
UID:10000163-1692291600-1692298800@wmi.edu.sg
SUMMARY:WMI-SFA Masterclass - Harnessing Regtech for Compliance
DESCRIPTION:As the financial industry evolves rapidly\, Regtech is disrupting the regulatory landscape. Marrying technology solutions with compliance domain knowledge can enhance\, optimise and transform compliance risk management providing a competitive edge in a sea of regulatory change and financial innovation. \n  \nThe Regtech landscape and comprehending capabilities of new technologies can be intimidating. We invite you to join us for a session mapping the Regtech universe and landscape today\, and how technologies harnessing AI\, data analytics and machine elearning can address evergreen as well as emerging Compliance risks and challenges. \n  \nEffective use of Regtech can transform risk management\, add value and demonstrate proactive governance\, automate complex and tedious processes\, detect and reduce risk of non compliance\, and improve overall risk management for financial players\, both the industry and supervisors. \n  \nRegister now to secure your spot at this exclusive event!
URL:https://wmi.edu.sg/wmi-event/wmi-sfa-masterclass-harnessing-regtech-for-compliance/
LOCATION:Wealth Management Institute\, One Marina Boulevard #16-01\, 018989\, Singapore
CATEGORIES:Events
ATTACH;FMTTYPE=image/png:https://wmi.edu.sg/wp-content/uploads/2023/08/WMI-SFA-Masterclass-Harnessing-Regtech-Compliance.png
END:VEVENT
BEGIN:VEVENT
DTSTART;TZID=Asia/Singapore:20230817T170000
DTEND;TZID=Asia/Singapore:20230817T180000
DTSTAMP:20260420T154331
CREATED:20230801T065115Z
LAST-MODIFIED:20230802T083926Z
UID:10000156-1692291600-1692295200@wmi.edu.sg
SUMMARY:Online Info Session – Compliance Diplomas & Certified Compliance Officer Advanced Programmes
DESCRIPTION:Get a chance to speak with our team in an online information session to learn more about WMI’s Compliance Diplomas and Certified Compliance Officer Advanced programmes. We are happy to offer an overview of the programme and any enquiries you may have about WMI in this one-hour virtual session. \n  \nRegister your interest here.
URL:https://wmi.edu.sg/wmi-event/online-info-session-compliance-diplomas-certified-compliance-advanced-programmes-17-aug/
CATEGORIES:Events
ATTACH;FMTTYPE=image/png:https://wmi.edu.sg/wp-content/uploads/2023/04/Events-Compliance-Diplomas-Certified-Compliance-Officer-Advanced-Online-Info-Session.png
END:VEVENT
BEGIN:VEVENT
DTSTART;TZID=Asia/Singapore:20230816T170000
DTEND;TZID=Asia/Singapore:20230816T180000
DTSTAMP:20260420T154331
CREATED:20230801T065609Z
LAST-MODIFIED:20230802T083815Z
UID:10000160-1692205200-1692208800@wmi.edu.sg
SUMMARY:Online Info Sessions – Certified Compliance Officer
DESCRIPTION:Get a chance to speak with our team in an online information session to learn more about WMI’s Certified Compliance Officer programme. We are happy to offer an overview of the programme and any enquiries you may have about WMI in this one-hour virtual session. \n  \nRegister your interest here.
URL:https://wmi.edu.sg/wmi-event/online-info-session-certified-compliance-officer-16-aug/
CATEGORIES:Events
ATTACH;FMTTYPE=image/png:https://wmi.edu.sg/wp-content/uploads/2023/05/Events-Certified-Compliance-Officer-Online-Info-Session.png
END:VEVENT
BEGIN:VEVENT
DTSTART;TZID=Asia/Singapore:20230810T170000
DTEND;TZID=Asia/Singapore:20230810T180000
DTSTAMP:20260420T154331
CREATED:20230801T064900Z
LAST-MODIFIED:20230802T083750Z
UID:10000155-1691686800-1691690400@wmi.edu.sg
SUMMARY:Online Info Session – Compliance Diplomas & Certified Compliance Officer Advanced Programmes
DESCRIPTION:Get a chance to speak with our team in an online information session to learn more about WMI’s Compliance Diplomas and Certified Compliance Officer Advanced programmes. We are happy to offer an overview of the programme and any enquiries you may have about WMI in this one-hour virtual session. \n  \nRegister your interest here.
URL:https://wmi.edu.sg/wmi-event/online-info-session-compliance-diplomas-certified-compliance-advanced-programmes-10-aug/
CATEGORIES:Events
ATTACH;FMTTYPE=image/png:https://wmi.edu.sg/wp-content/uploads/2023/04/Events-Compliance-Diplomas-Certified-Compliance-Officer-Advanced-Online-Info-Session.png
END:VEVENT
BEGIN:VEVENT
DTSTART;VALUE=DATE:20230810
DTEND;VALUE=DATE:20230812
DTSTAMP:20260420T154331
CREATED:20230728T094211Z
LAST-MODIFIED:20230803T054846Z
UID:10000108-1691625600-1691798399@wmi.edu.sg
SUMMARY:Advanced Diploma in Asset Management - Investment Technology in Action
DESCRIPTION:
URL:https://wmi.edu.sg/wmi-event/advanced-diploma-in-asset-management-investment-technology-in-action-2/
CATEGORIES:Diploma Programmes,Investing and Asset Management
END:VEVENT
BEGIN:VEVENT
DTSTART;TZID=Asia/Singapore:20230803T080000
DTEND;TZID=Asia/Singapore:20230803T170000
DTSTAMP:20260420T154331
CREATED:20230801T064247Z
LAST-MODIFIED:20230802T083715Z
UID:10000140-1691049600-1691082000@wmi.edu.sg
SUMMARY:Online Info Session – Compliance Diplomas & Certified Compliance Officer Advanced Programmes
DESCRIPTION:Get a chance to speak with our team in an online information session to learn more about WMI’s Compliance Diplomas and Certified Compliance Officer Advanced programmes. We are happy to offer an overview of the programme and any enquiries you may have about WMI in this one-hour virtual session. \n  \nRegister your interest here.
URL:https://wmi.edu.sg/wmi-event/online-info-session-compliance-diplomas-certified-compliance-advanced-programmes-3-aug/
CATEGORIES:Events
ATTACH;FMTTYPE=image/png:https://wmi.edu.sg/wp-content/uploads/2023/04/Events-Compliance-Diplomas-Certified-Compliance-Officer-Advanced-Online-Info-Session.png
END:VEVENT
BEGIN:VEVENT
DTSTART;VALUE=DATE:20230803
DTEND;VALUE=DATE:20230805
DTSTAMP:20260420T154331
CREATED:20230728T093954Z
LAST-MODIFIED:20230803T054904Z
UID:10000107-1691020800-1691193599@wmi.edu.sg
SUMMARY:Advanced Diploma in Asset Management - Data Tools and Platforms
DESCRIPTION:
URL:https://wmi.edu.sg/wmi-event/advanced-diploma-in-asset-management-data-tools-and-platforms/
CATEGORIES:Diploma Programmes,Investing and Asset Management
END:VEVENT
BEGIN:VEVENT
DTSTART;TZID=Asia/Singapore:20230802T170000
DTEND;TZID=Asia/Singapore:20230802T180000
DTSTAMP:20260420T154331
CREATED:20230801T065459Z
LAST-MODIFIED:20230802T083632Z
UID:10000159-1690995600-1690999200@wmi.edu.sg
SUMMARY:Online Info Sessions – Certified Compliance Officer
DESCRIPTION:Get a chance to speak with our team in an online information session to learn more about WMI’s Certified Compliance Officer programme. We are happy to offer an overview of the programme and any enquiries you may have about WMI in this one-hour virtual session. \n  \nRegister your interest here.
URL:https://wmi.edu.sg/wmi-event/online-info-session-certified-compliance-officer-2-aug/
CATEGORIES:Events
ATTACH;FMTTYPE=image/png:https://wmi.edu.sg/wp-content/uploads/2023/05/Events-Certified-Compliance-Officer-Online-Info-Session.png
END:VEVENT
BEGIN:VEVENT
DTSTART;TZID=Asia/Singapore:20230728T170000
DTEND;TZID=Asia/Singapore:20230728T180000
DTSTAMP:20260420T154331
CREATED:20230723T101245Z
LAST-MODIFIED:20230723T101245Z
UID:10000074-1690563600-1690567200@wmi.edu.sg
SUMMARY:Online Info Sessions – Certified Compliance Officer For June 2023
DESCRIPTION:Dates:  \n\n14 Jun 2023\, Wednesday\n28 Jun 2023\, Wednesday\n\nTime: 5.00 PM to 6.00 PM (GMT +8) \nGet a chance to speak with our team in an online information session to learn more about WMI’s Certified Compliance Officer programme. We are happy to offer an overview of the programme and any enquiries you may have about WMI in this one-hour virtual session. \nRegister your interest here.
URL:https://wmi.edu.sg/%tribe_events_slug%/online-info-sessions-certified-compliance-officer-for-june-2023/2023-07-28/
CATEGORIES:Events
END:VEVENT
BEGIN:VEVENT
DTSTART;VALUE=DATE:20230727
DTEND;VALUE=DATE:20230729
DTSTAMP:20260420T154331
CREATED:20230725T165709Z
LAST-MODIFIED:20230725T171704Z
UID:10000082-1690416000-1690588799@wmi.edu.sg
SUMMARY:Certified Private Banker (CPB) Level 3 - Leading Business
DESCRIPTION:
URL:https://wmi.edu.sg/wmi-event/certified-private-banker-cpb-level-3-leading-business/
CATEGORIES:Private Banking
END:VEVENT
BEGIN:VEVENT
DTSTART;VALUE=DATE:20230725
DTEND;VALUE=DATE:20230726
DTSTAMP:20260420T154331
CREATED:20230725T085205Z
LAST-MODIFIED:20230725T094157Z
UID:10000081-1690243200-1690329599@wmi.edu.sg
SUMMARY:Certified Private Banker (CPB) Level 2 - Digital Wealth Management
DESCRIPTION:
URL:https://wmi.edu.sg/wmi-event/certified-private-banker-cpb-level-2-digital-wealth-management/
CATEGORIES:Private Banking
END:VEVENT
BEGIN:VEVENT
DTSTART;TZID=Asia/Singapore:20230628T170000
DTEND;TZID=Asia/Singapore:20230628T180000
DTSTAMP:20260420T154331
CREATED:20230504T160000Z
LAST-MODIFIED:20230803T072142Z
UID:10000033-1687971600-1687975200@wmi.edu.sg
SUMMARY:Online Info Sessions – Certified Compliance Officer
DESCRIPTION:Get a chance to speak with our team in an online information session to learn more about WMI’s Certified Compliance Officer programme. We are happy to offer an overview of the programme and any enquiries you may have about WMI in this one-hour virtual session. \n  \nRegister your interest here.
URL:https://wmi.edu.sg/wmi-event/online-info-sessions-certified-compliance-officer-for-jun-2023/
CATEGORIES:Events
ATTACH;FMTTYPE=image/png:https://wmi.edu.sg/wp-content/uploads/2023/05/Events-Certified-Compliance-Officer-Online-Info-Session.png
END:VEVENT
BEGIN:VEVENT
DTSTART;TZID=Asia/Singapore:20230622T170000
DTEND;TZID=Asia/Singapore:20230622T180000
DTSTAMP:20260420T154331
CREATED:20230723T101516Z
LAST-MODIFIED:20230803T071202Z
UID:10000076-1687453200-1687456800@wmi.edu.sg
SUMMARY:Online Info Sessions – Compliance Diplomas & Certified Compliance Officer Advanced Programmes For June 2023
DESCRIPTION:Date: \n\n1 Jun 2023\, Thursday\n22 Jun 2023\, Thursday\n\nTime: 5.00 PM to 6.00 PM (GMT +8) \nGet a chance to speak with our team in an online information session to learn more about WMI’s Compliance Diplomas and Certified Compliance Officer Advanced programmes. We are happy to offer an overview of the programme and any enquiries you may have about WMI in this one-hour virtual session. \nRegister your interest here.
URL:https://wmi.edu.sg/%tribe_events_slug%/online-info-sessions-compliance-diplomas-certified-compliance-officer-advanced-programmes-for-june-2023/2023-06-22/
CATEGORIES:Events
ATTACH;FMTTYPE=image/png:https://wmi.edu.sg/wp-content/uploads/2023/04/Events-Compliance-Diplomas-Certified-Compliance-Officer-Advanced-Online-Info-Session.png
END:VEVENT
BEGIN:VEVENT
DTSTART;TZID=Asia/Singapore:20230614T170000
DTEND;TZID=Asia/Singapore:20230614T180000
DTSTAMP:20260420T154331
CREATED:20230723T101245Z
LAST-MODIFIED:20230723T101245Z
UID:10000073-1686762000-1686765600@wmi.edu.sg
SUMMARY:Online Info Sessions – Certified Compliance Officer For June 2023
DESCRIPTION:Dates:  \n\n14 Jun 2023\, Wednesday\n28 Jun 2023\, Wednesday\n\nTime: 5.00 PM to 6.00 PM (GMT +8) \nGet a chance to speak with our team in an online information session to learn more about WMI’s Certified Compliance Officer programme. We are happy to offer an overview of the programme and any enquiries you may have about WMI in this one-hour virtual session. \nRegister your interest here.
URL:https://wmi.edu.sg/%tribe_events_slug%/online-info-sessions-certified-compliance-officer-for-june-2023/2023-06-14/
CATEGORIES:Events
END:VEVENT
BEGIN:VEVENT
DTSTART;TZID=Asia/Singapore:20230609T083000
DTEND;TZID=Asia/Singapore:20230609T121500
DTSTAMP:20260420T154331
CREATED:20230723T100025Z
LAST-MODIFIED:20240202T011239Z
UID:10000068-1686299400-1686312900@wmi.edu.sg
SUMMARY:Impact Philanthropy Partnership Forum 2023
DESCRIPTION:How can philanthropy and impact capital play a catalytic role in solving some of society’s most pressing challenges\, such as the climate crisis? \n  \nAttendees heard from our panel of experts on how philanthropists can play a decisive role in creating transformative change and from pioneering family principals and thought leaders in the impact space  on how to make a real and measurable difference. \n  \nSpeaker(s): \n\nMs Gillian Tan\nDr Christopher Elias\nMs Dawn Chan\nand more
URL:https://wmi.edu.sg/wmi-event/ipp-forum-2023-accelerating-catalytic-philanthropy-sustainable-futures-beyond-writing-the-cheque/
LOCATION:Big Picture Theatre\, Capital Tower\, 168 Robinson Road\, #09-03\, 068912\, Singapore
CATEGORIES:GFO-Circle Events,IPP Forum,Events
ATTACH;FMTTYPE=image/jpeg:https://wmi.edu.sg/wp-content/uploads/2023/07/Impact-Philanthropy-Partnership-Forum-2023.jpg
END:VEVENT
BEGIN:VEVENT
DTSTART;TZID=Asia/Singapore:20230601T170000
DTEND;TZID=Asia/Singapore:20230601T180000
DTSTAMP:20260420T154331
CREATED:20230723T101516Z
LAST-MODIFIED:20230803T071202Z
UID:10000075-1685638800-1685642400@wmi.edu.sg
SUMMARY:Online Info Sessions – Compliance Diplomas & Certified Compliance Officer Advanced Programmes For June 2023
DESCRIPTION:Date: \n\n1 Jun 2023\, Thursday\n22 Jun 2023\, Thursday\n\nTime: 5.00 PM to 6.00 PM (GMT +8) \nGet a chance to speak with our team in an online information session to learn more about WMI’s Compliance Diplomas and Certified Compliance Officer Advanced programmes. We are happy to offer an overview of the programme and any enquiries you may have about WMI in this one-hour virtual session. \nRegister your interest here.
URL:https://wmi.edu.sg/%tribe_events_slug%/online-info-sessions-compliance-diplomas-certified-compliance-officer-advanced-programmes-for-june-2023/2023-06-01/
CATEGORIES:Events
ATTACH;FMTTYPE=image/png:https://wmi.edu.sg/wp-content/uploads/2023/04/Events-Compliance-Diplomas-Certified-Compliance-Officer-Advanced-Online-Info-Session.png
END:VEVENT
BEGIN:VEVENT
DTSTART;TZID=Asia/Singapore:20230531T170000
DTEND;TZID=Asia/Singapore:20230531T180000
DTSTAMP:20260420T154331
CREATED:20230723T100724Z
LAST-MODIFIED:20230803T070553Z
UID:10000071-1685552400-1685556000@wmi.edu.sg
SUMMARY:Online Info Sessions – Certified Compliance Officer
DESCRIPTION:Get a chance to speak with our team in an online information session to learn more about WMI’s Certified Compliance Officer programme. We are happy to offer an overview of the programme and any enquiries you may have about WMI in this one-hour virtual session. \n  \nRegister your interest here.
URL:https://wmi.edu.sg/wmi-event/online-info-sessions-certified-compliance-officer-for-may-2023/
CATEGORIES:Events
ATTACH;FMTTYPE=image/png:https://wmi.edu.sg/wp-content/uploads/2023/05/Events-Certified-Compliance-Officer-Online-Info-Session.png
END:VEVENT
BEGIN:VEVENT
DTSTART;TZID=Asia/Singapore:20230526T183000
DTEND;TZID=Asia/Singapore:20230526T193000
DTSTAMP:20260420T154331
CREATED:20230723T101742Z
LAST-MODIFIED:20230803T071025Z
UID:10000077-1685125800-1685129400@wmi.edu.sg
SUMMARY:WMI Expert Series: Financial Services Compliance Trends\, Risks & Opportunities
DESCRIPTION:The financial sector is dynamic and has grown in size and complexity. The rate of regulatory change is increasing with new business models powered by data and technology\, and also to address financial crises and wrongdoings. Navigating the regulatory landscape successfully can make the difference between continued business and customers preserving trust and reputation\, and regulatory fines\, penalties\, impact to compensation\, suspension of business or losing one’s licence. \n  \nCompliance professionals are in demand to advise on and navigate this landscape and traditional compliance roles are evolving to provide higher value to organisations. \n  \nYou are cordially invited to join this Expert Series which will cover the changing regulatory landscape\, trends and risks in financial services\, the role of the Compliance professional\,  the range of job families available and the skillsets required. It is a great opportunity for interested individuals to explore the wide range of roles in Compliance in the financial services industry. \n  \nSecure your spot at this exclusive event and take the first step towards advancing your career in the compliance industry. Register here to attend via Zoom or here to attend in person.
URL:https://wmi.edu.sg/wmi-event/wmi-expert-series-financial-services-compliance-trends-risks-opportunities/
LOCATION:Wealth Management Institute\, One Marina Boulevard #16-01\, 018989\, Singapore
CATEGORIES:Events
ATTACH;FMTTYPE=image/png:https://wmi.edu.sg/wp-content/uploads/2023/07/WMI-Expert-Series-Financial-Services-Compliance-Trends-Risks-Opportunities.png
END:VEVENT
BEGIN:VEVENT
DTSTART;TZID=Asia/Singapore:20230517T170000
DTEND;TZID=Asia/Singapore:20230517T180000
DTSTAMP:20260420T154331
CREATED:20230504T160000Z
LAST-MODIFIED:20230803T073001Z
UID:10000035-1684342800-1684346400@wmi.edu.sg
SUMMARY:Online Info Sessions – Certified Compliance Officer
DESCRIPTION:Get a chance to speak with our team in an online information session to learn more about WMI’s Certified Compliance Officer programme. We are happy to offer an overview of the programme and any enquiries you may have about WMI in this one-hour virtual session. \n  \nRegister your interest here.
URL:https://wmi.edu.sg/wmi-event/online-info-sessions-certified-compliance-officer-for-may-2023-2/
CATEGORIES:Events
ATTACH;FMTTYPE=image/png:https://wmi.edu.sg/wp-content/uploads/2023/05/Events-Certified-Compliance-Officer-Online-Info-Session.png
END:VEVENT
BEGIN:VEVENT
DTSTART;TZID=Asia/Singapore:20230511T170000
DTEND;TZID=Asia/Singapore:20230511T180000
DTSTAMP:20260420T154331
CREATED:20230504T160000Z
LAST-MODIFIED:20230803T072933Z
UID:10000036-1683824400-1683828000@wmi.edu.sg
SUMMARY:Online Info Sessions – Compliance Diplomas & Certified Compliance Officer Advanced Programmes
DESCRIPTION:Get a chance to speak with our team in an online information session to learn more about WMI’s Compliance Diplomas and Certified Compliance Officer Advanced programmes. We are happy to offer an overview of the programme and any enquiries you may have about WMI in this one-hour virtual session. \n  \nRegister your interest here.
URL:https://wmi.edu.sg/wmi-event/online-info-sessions-compliance-diplomas-certified-compliance-officer-advanced-programmes-for-may-2023-2/
CATEGORIES:Events
ATTACH;FMTTYPE=image/png:https://wmi.edu.sg/wp-content/uploads/2023/04/Events-Compliance-Diplomas-Certified-Compliance-Officer-Advanced-Online-Info-Session.png
END:VEVENT
BEGIN:VEVENT
DTSTART;VALUE=DATE:20230503
DTEND;VALUE=DATE:20230504
DTSTAMP:20260420T154331
CREATED:20240111T040040Z
LAST-MODIFIED:20240202T011258Z
UID:10000211-1683072000-1683158399@wmi.edu.sg
SUMMARY:Finding the Right PE/VC Strategy for Your Family Office
DESCRIPTION:Attracted by opportunities in disruptive technologies and innovative business models\, many family offices are deploying capital into private market investments and start-ups. However\, building a successful PE/VC portfolio is not straightforward. \n  \nOur event featured leading family offices and venture capital firms who shared with attendees the advantages and pitfalls of different ways to get PE/VC exposure (e.g. investing through funds versus direct investment)\, what to look out for when picking fund managers and why founders may like to partner with family offices. \n  \nSpeaker(s): \n\nMr David Gowdey\nMr Darren Teo\nMr Edoardo Collevecchio\nMr Yeung Chia Li
URL:https://wmi.edu.sg/wmi-event/pe-vc-strategy-family-office/
CATEGORIES:GFO-Circle Events,Events
ATTACH;FMTTYPE=image/jpeg:https://wmi.edu.sg/wp-content/uploads/2024/01/Finding-the-Right-PE-VC-Strategy-for-Your-Family-Office.jpg
END:VEVENT
END:VCALENDAR