BEGIN:VCALENDAR
VERSION:2.0
PRODID:-//WMI - ECPv6.15.17.1//NONSGML v1.0//EN
CALSCALE:GREGORIAN
METHOD:PUBLISH
X-WR-CALNAME:WMI
X-ORIGINAL-URL:https://wmi.edu.sg
X-WR-CALDESC:Events for WMI
REFRESH-INTERVAL;VALUE=DURATION:PT1H
X-Robots-Tag:noindex
X-PUBLISHED-TTL:PT1H
BEGIN:VTIMEZONE
TZID:Asia/Singapore
BEGIN:STANDARD
TZOFFSETFROM:+0800
TZOFFSETTO:+0800
TZNAME:+08
DTSTART:20230101T000000
END:STANDARD
END:VTIMEZONE
BEGIN:VEVENT
DTSTART;VALUE=DATE:20240802
DTEND;VALUE=DATE:20240803
DTSTAMP:20260420T064828
CREATED:20240104T072834Z
LAST-MODIFIED:20240104T075201Z
UID:10000207-1722556800-1722643199@wmi.edu.sg
SUMMARY:Certified Private Banker (CPB) Level 3 - Managing Business Performance
DESCRIPTION:
URL:https://wmi.edu.sg/wmi-event/certified-private-banker-cpb-level-3-managing-business-performance/
CATEGORIES:Private Banking
END:VEVENT
BEGIN:VEVENT
DTSTART;VALUE=DATE:20240812
DTEND;VALUE=DATE:20240815
DTSTAMP:20260420T064828
CREATED:20230810T101001Z
LAST-MODIFIED:20231016T062716Z
UID:10000172-1723420800-1723679999@wmi.edu.sg
SUMMARY:Advanced Diploma in Wealth Management - Cross Banking
DESCRIPTION:
URL:https://wmi.edu.sg/wmi-event/advanced-diploma-in-wealth-management-cross-banking-aug-2024/
CATEGORIES:Diploma Programmes,Wealth Management
END:VEVENT
BEGIN:VEVENT
DTSTART;TZID=Asia/Singapore:20240815T163000
DTEND;TZID=Asia/Singapore:20240815T183000
DTSTAMP:20260420T064828
CREATED:20240222T034701Z
LAST-MODIFIED:20241029T234641Z
UID:10000229-1723739400-1723746600@wmi.edu.sg
SUMMARY:Family Office Investments: AI & Climate Tech investment opportunities
DESCRIPTION:Embark on a venture into the world of AI and Climate Tech opportunities. Hear from leading family offices and VC firms at this session on transformative possibilities\, where AI technologies redefine industries and reshape our future\, and innovation meets sustainability\, offering a roadmap for family offices seeking sustainable and impactful investment avenues. \n  \nAGENDA \nPanel #1: Venturing into VC: Best Practices for Family Offices  \nVC firms continuously discover and nurture groundbreaking technologies with high-growth potential\, unlocking long-term value for investors. Yet\, VC remains a relatively new asset class for many family offices. In this session\, panelists will:\n– Examine considerations and challenges for family offices starting to build their VC portfolio\n– Explore why the VC asset class remains attractive in the current market environment\n– Discuss why portfolio value creation efforts by VCs are important to drive fund returns \n  \nPanel #2: Amplifying Opportunity: Artificial Intelligence  \nTechnology is evolving at an unprecedented pace\, with each innovation reshaping the way we work and live. The rapid acceleration of AI has led to an influx of VC investment\, which is likely to continue in the coming months and years.  In this session\, panelists will discuss: \n– Where are the biggest AI-driven opportunities globally and in Asia?\n– Which areas within AI are more investible?\n– How can family offices obtain exposure to opportunities in AI? \n  \nDrinks Reception & Networking \n   \nLineup of speakers:  \nRaj Ganguly\, Co-Founder & Co-CEO of B-Capital \nAngela Huang\, Managing Director\, EE Capital \nLesan Tsai\, Managing Director & Head of Private Investments\, Kiri Capital \n  \nGet in touch with our GFO Circle Team for event enquiries
URL:https://wmi.edu.sg/wmi-event/family-office-investments-ai-climate-tech-investment-opportunities/
LOCATION:Wealth Management Institute\, One Marina Boulevard #16-01\, 018989\, Singapore
CATEGORIES:GFO-Circle Events
ATTACH;FMTTYPE=image/jpeg:https://wmi.edu.sg/wp-content/uploads/2024/10/Family-Office-Investments-AI-Climate-Tech-investment-opportunities-scaled.jpg
END:VEVENT
BEGIN:VEVENT
DTSTART;VALUE=DATE:20240819
DTEND;VALUE=DATE:20240822
DTSTAMP:20260420T064828
CREATED:20230801T041424Z
LAST-MODIFIED:20240326T013743Z
UID:10000133-1724025600-1724284799@wmi.edu.sg
SUMMARY:Certificate for Family Office Advisors for Greater China Markets
DESCRIPTION:
URL:https://wmi.edu.sg/wmi-event/certificate-for-family-office-advisors-for-greater-china-markets-2/
CATEGORIES:Family Office
END:VEVENT
BEGIN:VEVENT
DTSTART;VALUE=DATE:20240823
DTEND;VALUE=DATE:20240828
DTSTAMP:20260420T064828
CREATED:20230801T035736Z
LAST-MODIFIED:20240426T012811Z
UID:10000130-1724371200-1724803199@wmi.edu.sg
SUMMARY:Certificate for Family Office Advisors for Greater China Markets
DESCRIPTION:
URL:https://wmi.edu.sg/wmi-event/certificate-for-family-office-advisors-for-greater-china-markets/
CATEGORIES:Family Office
END:VEVENT
BEGIN:VEVENT
DTSTART;VALUE=DATE:20240826
DTEND;VALUE=DATE:20240827
DTSTAMP:20260420T064828
CREATED:20231117T033430Z
LAST-MODIFIED:20240119T024258Z
UID:10000201-1724630400-1724716799@wmi.edu.sg
SUMMARY:Certified Service Adviser (CSA) Level 1 - Successful Account\, Client and Stakeholder Management
DESCRIPTION:
URL:https://wmi.edu.sg/wmi-event/certified-service-adviser-csa-level-1-successful-account-client-and-stakeholder-management/
CATEGORIES:Private Banking
END:VEVENT
BEGIN:VEVENT
DTSTART;TZID=Asia/Singapore:20240829T170000
DTEND;TZID=Asia/Singapore:20240829T193000
DTSTAMP:20260420T064828
CREATED:20240729T021511Z
LAST-MODIFIED:20241011T040454Z
UID:10000243-1724950800-1724959800@wmi.edu.sg
SUMMARY:Uncovering Opportunities for High Impact
DESCRIPTION:The Family Office Discovery Series is an initiative by WMI to help family offices better navigate Singapore’s dynamic ecosystem. This Series enables family offices to connect with like-minded peers within areas of interest\, while providing a systematic introduction to various parts of the investment and social impact communities. \n  \nThis special edition has been tailored to family principals and SFO professionals who are eager to explore Asia’s dynamic philanthropy and impact capital landscape\, and understand the latest trends. \n  \nCommencing with sharing and insights from EY on Singapore’s Philanthropy Tax Incentive Scheme (PTIS)\, this interactive session will set the stage for discussions on effective capital deployment into high-impact opportunities. Participants will also explore a range of tools and platforms that funders can consider when building a strategic impact portfolio across the region. \n  \nWe warmly invite you to join us for an evening of peer sharing and knowledge exchange. \n  \nThe Family Office Discovery Series is proudly organised by the Wealth Management Institute (WMI)\, and hosted by the Global-Asia Family Office (GFO) Circle and the Asia Centre for Changemakers (ACC) that build capabilities and communities in the family office and impact capital sectors. \n 
URL:https://wmi.edu.sg/wmi-event/uncovering-opportunities-for-high-impact/
LOCATION:Wealth Management Institute\, One Marina Boulevard #16-01\, 018989\, Singapore
CATEGORIES:GFO-Circle Events,ACC Events
ATTACH;FMTTYPE=image/jpeg:https://wmi.edu.sg/wp-content/uploads/2024/07/Uncovering-Opportunities-for-High-Impact.jpg
END:VEVENT
END:VCALENDAR