BEGIN:VCALENDAR
VERSION:2.0
PRODID:-//WMI - ECPv6.15.17.1//NONSGML v1.0//EN
CALSCALE:GREGORIAN
METHOD:PUBLISH
X-WR-CALNAME:WMI
X-ORIGINAL-URL:https://wmi.edu.sg
X-WR-CALDESC:Events for WMI
REFRESH-INTERVAL;VALUE=DURATION:PT1H
X-Robots-Tag:noindex
X-PUBLISHED-TTL:PT1H
BEGIN:VTIMEZONE
TZID:Asia/Singapore
BEGIN:STANDARD
TZOFFSETFROM:+0800
TZOFFSETTO:+0800
TZNAME:+08
DTSTART:20230101T000000
END:STANDARD
END:VTIMEZONE
BEGIN:VEVENT
DTSTART;VALUE=DATE:20240620
DTEND;VALUE=DATE:20240621
DTSTAMP:20260420T101605
CREATED:20230908T095607Z
LAST-MODIFIED:20231013T095211Z
UID:10000180-1718841600-1718927999@wmi.edu.sg
SUMMARY:Certified Private Banker (CPB) Level 1 - Digital Wealth Management
DESCRIPTION:
URL:https://wmi.edu.sg/wmi-event/certified-private-banker-cpb-level-1-digital-wealth-management-oct/
CATEGORIES:Private Banking
END:VEVENT
BEGIN:VEVENT
DTSTART;VALUE=DATE:20240621
DTEND;VALUE=DATE:20240622
DTSTAMP:20260420T101605
CREATED:20241011T033957Z
LAST-MODIFIED:20260320T033552Z
UID:10000247-1718928000-1719014399@wmi.edu.sg
SUMMARY:Impact Investment in Asia Unveiling True Change Makers
DESCRIPTION:Globally\, impact investing is becoming a key force driving positive social change. How can we achieve profound social impact while ensuring investment returns? For entrepreneurs and investors interested in impact investing\, how can they distinguish truly valuable projects in practice and avoid direct or indirect “greenwashing”?\n\nThe Caixin Asia Roundtable\, to be held in Singapore on June 21\, will bring together more than 40 professionals\, investors\, high-net-worth individuals\, and entrepreneurs to explore effective impact investing strategies in depth. The event will offer a valuable practical lesson—not only with expert sharing and case analysis\, but also through a true-or-false impact investing pitch session with participation from all attendees and expert commentary.\n\n“Impact Investing in Asia: Discovering the Real Innovators” is part of an international impact investing forum series jointly organized by Caixin International and the Ford Foundation. It is co-hosted with the GFO Circle under the Wealth Management Institute (WMI). This high-level\, closed-door roundtable aims to provide participants with actionable investment strategies\, access to Asian experts in the field of impact investing\, and institutional partners for the journey of impact investing. \n  \nStay tuned for more updates on this forum. \n  \nGet in touch with our GFO Circle Team for event enquiries
URL:https://wmi.edu.sg/wmi-event/impact-investment-in-asia-unveiling-true-change-makers/
CATEGORIES:GFO-Circle Events,Events
ATTACH;FMTTYPE=image/jpeg:https://wmi.edu.sg/wp-content/uploads/2024/10/Impact-Investment-in-Asia-​Unveiling-True-Change-Makers-Caixin.jpg
END:VEVENT
BEGIN:VEVENT
DTSTART;VALUE=DATE:20240624
DTEND;VALUE=DATE:20240626
DTSTAMP:20260420T101605
CREATED:20230810T100730Z
LAST-MODIFIED:20231016T062626Z
UID:10000171-1719187200-1719359999@wmi.edu.sg
SUMMARY:Advanced Diploma in Wealth Management - Advanced Wealth Planning\, Family Office and Business Succession
DESCRIPTION:
URL:https://wmi.edu.sg/wmi-event/advanced-diploma-in-wealth-management-advanced-wealth-planning-family-office-and-business-succession-jun-2024/
CATEGORIES:Diploma Programmes,Wealth Management
END:VEVENT
END:VCALENDAR