BEGIN:VCALENDAR
VERSION:2.0
PRODID:-//WMI - ECPv6.15.17.1//NONSGML v1.0//EN
CALSCALE:GREGORIAN
METHOD:PUBLISH
X-WR-CALNAME:WMI
X-ORIGINAL-URL:https://wmi.edu.sg
X-WR-CALDESC:Events for WMI
REFRESH-INTERVAL;VALUE=DURATION:PT1H
X-Robots-Tag:noindex
X-PUBLISHED-TTL:PT1H
BEGIN:VTIMEZONE
TZID:Asia/Singapore
BEGIN:STANDARD
TZOFFSETFROM:+0800
TZOFFSETTO:+0800
TZNAME:+08
DTSTART:20230101T000000
END:STANDARD
END:VTIMEZONE
BEGIN:VEVENT
DTSTART;VALUE=DATE:20240405
DTEND;VALUE=DATE:20240406
DTSTAMP:20260420T222600
CREATED:20230725T172557Z
LAST-MODIFIED:20231013T093549Z
UID:10000085-1712275200-1712361599@wmi.edu.sg
SUMMARY:Certified Private Banker (CPB) Level 1 - Wealth Planning
DESCRIPTION:
URL:https://wmi.edu.sg/wmi-event/certified-private-banker-cpb-level-1-wealth-planning/
CATEGORIES:Private Banking
END:VEVENT
BEGIN:VEVENT
DTSTART;TZID=Asia/Singapore:20240411T113000
DTEND;TZID=Asia/Singapore:20240411T123000
DTSTAMP:20260420T222600
CREATED:20230904T072351Z
LAST-MODIFIED:20240327T040127Z
UID:10000178-1712835000-1712838600@wmi.edu.sg
SUMMARY:Investment Accelerator Programme (IAP) Info Session
DESCRIPTION:Get a chance to speak with our team in an online information session to learn more about WMI’s Investment Accelerator Programme (IAP). We are happy to offer an overview of the programme and answer any enquiries you may have about IAP in this one-hour virtual session. \n  \nThe programme provides fundamental knowledge in investments and asset management\, enhancing participants’ prospects for careers in finance. \n  \nKey features of the programme: \n  \n1. Investment Accelerator Programme (IAP):  IAP consists of 4 modules of 5 hours of self-paced eLearning (total 20 hours) to provide learners with an understanding of the investment management landscape\, the impact of global macro cycles on investment performance\, financial statements from an investor’s lens\, and building an investment portfolio for the long-term. \n  \n2. Industry-recognised Credentials: The curriculum was developed in close collaboration with a team of industry experts in asset and wealth management and mapped to the Skills Framework for Financial Services (SFwFS) jointly developed by MAS\, IBF\, SkillsFuture Singapore\, Workforce Singapore and industry.  The CFI is accredited by IBF under the SFwFS. \n  \n3. Industry Networking and Career Talks with Leading Financial Institutions:  Participants of IAP will be invited to networking events which WMI will conduct in collaboration with leading financial institutions to expose students to attractive career opportunities in the sector. \n  \n4. Career Advisory Services with The Institute of Banking and Finance: Graduates from the IAP may tap on career advisory services by The Institute of Banking and Finance. \n  \n5. IBF Standards Training Scheme (IBF-STS): Singaporeans and Permanent Residents (below 40 years old)\, and physically based in Singapore will enjoy funding subsidy of 50% upon successful completion of the programme. \n  \n6. WMI Concessionary Rates and Study Awards: To make IAP accessible to the university students and recent graduates\, a concessionary course fee of $1\,199 (including GST) will be applicable instead of the standard fee of $2\,616. In addition\, students with a cumulative GPA of at least 3.0 and above (on track for honours or equivalent) will qualify for WMI Study Award of $450 upon successful completion. Together with IBF funding support and WMI Study Award\, the nett fee payable by your students will be only $199. \n  \nGet ready to embark on an exciting finance and investment management career! Fill out the form below to register for the virtual information session on 11 April 2024 (you will receive the zoom link via email).
URL:https://wmi.edu.sg/wmi-event/investment-accelerator-programme-iap-info-session/
CATEGORIES:Events
ATTACH;FMTTYPE=image/png:https://wmi.edu.sg/wp-content/uploads/2023/09/WMI-Investment-Accelerator-Programme-IAP-Info-Session-Header.png
END:VEVENT
BEGIN:VEVENT
DTSTART;VALUE=DATE:20240418
DTEND;VALUE=DATE:20240420
DTSTAMP:20260420T222600
CREATED:20230810T100048Z
LAST-MODIFIED:20231016T062949Z
UID:10000167-1713398400-1713571199@wmi.edu.sg
SUMMARY:Advanced Diploma in Wealth Management - Investment Advisory
DESCRIPTION:
URL:https://wmi.edu.sg/wmi-event/advanced-diploma-in-wealth-management-investment-advisory/
CATEGORIES:Diploma Programmes,Wealth Management
END:VEVENT
BEGIN:VEVENT
DTSTART;VALUE=DATE:20240423
DTEND;VALUE=DATE:20240425
DTSTAMP:20260420T222600
CREATED:20240221T022823Z
LAST-MODIFIED:20240221T022823Z
UID:10000223-1713830400-1714003199@wmi.edu.sg
SUMMARY:Certificate in Digital Assets Strategies\, Risks & Regulations
DESCRIPTION:
URL:https://wmi.edu.sg/wmi-event/certificate-digital-assets-strategies-risks-regulations/
CATEGORIES:Investing and Asset Management
END:VEVENT
BEGIN:VEVENT
DTSTART;VALUE=DATE:20240425
DTEND;VALUE=DATE:20240427
DTSTAMP:20260420T222600
CREATED:20230810T100311Z
LAST-MODIFIED:20231016T062834Z
UID:10000168-1714003200-1714175999@wmi.edu.sg
SUMMARY:Advanced Diploma in Wealth Management - Investment Product Strategies
DESCRIPTION:
URL:https://wmi.edu.sg/wmi-event/advanced-diploma-in-wealth-management-investment-product-strategies/
CATEGORIES:Diploma Programmes,Wealth Management
END:VEVENT
BEGIN:VEVENT
DTSTART;VALUE=DATE:20240429
DTEND;VALUE=DATE:20240501
DTSTAMP:20260420T222600
CREATED:20230726T024905Z
LAST-MODIFIED:20231013T093940Z
UID:10000091-1714348800-1714521599@wmi.edu.sg
SUMMARY:Certified Private Banker (CPB) Level 2 - Investment Advisory
DESCRIPTION:
URL:https://wmi.edu.sg/wmi-event/certified-private-banker-cpb-level-2-investment-advisory/
CATEGORIES:Private Banking
END:VEVENT
END:VCALENDAR