BEGIN:VCALENDAR
VERSION:2.0
PRODID:-//WMI - ECPv6.15.17.1//NONSGML v1.0//EN
CALSCALE:GREGORIAN
METHOD:PUBLISH
X-WR-CALNAME:WMI
X-ORIGINAL-URL:https://wmi.edu.sg
X-WR-CALDESC:Events for WMI
REFRESH-INTERVAL;VALUE=DURATION:PT1H
X-Robots-Tag:noindex
X-PUBLISHED-TTL:PT1H
BEGIN:VTIMEZONE
TZID:Asia/Singapore
BEGIN:STANDARD
TZOFFSETFROM:+0800
TZOFFSETTO:+0800
TZNAME:+08
DTSTART:20220101T000000
END:STANDARD
END:VTIMEZONE
BEGIN:VEVENT
DTSTART;VALUE=DATE:20231030
DTEND;VALUE=DATE:20231103
DTSTAMP:20260425T100910
CREATED:20230726T043455Z
LAST-MODIFIED:20230801T094319Z
UID:10000101-1698624000-1698969599@wmi.edu.sg
SUMMARY:Certified Private Banker (CPB) Level 1 - Client Relationship Management
DESCRIPTION:
URL:https://wmi.edu.sg/wmi-event/certified-private-banker-cpb-level-1-client-relationship-management-2/
CATEGORIES:Private Banking
END:VEVENT
BEGIN:VEVENT
DTSTART;VALUE=DATE:20231101
DTEND;VALUE=DATE:20231102
DTSTAMP:20260425T100910
CREATED:20230726T045024Z
LAST-MODIFIED:20230726T045643Z
UID:10000103-1698796800-1698883199@wmi.edu.sg
SUMMARY:Certified Private Banker (CPB) Level 2 - Market Specialisation (Indonesia)
DESCRIPTION:
URL:https://wmi.edu.sg/wmi-event/certified-private-banker-cpb-level-2-market-specialisation-indonesia/
CATEGORIES:Private Banking
END:VEVENT
BEGIN:VEVENT
DTSTART;VALUE=DATE:20231107
DTEND;VALUE=DATE:20231122
DTSTAMP:20260425T100910
CREATED:20230802T031744Z
LAST-MODIFIED:20230913T083016Z
UID:10000164-1699315200-1700611199@wmi.edu.sg
SUMMARY:Certificate in Applied ESG Investment Advisory
DESCRIPTION:
URL:https://wmi.edu.sg/wmi-event/certificate-in-applied-esg-investment-advisory-nov/
CATEGORIES:ESG
END:VEVENT
BEGIN:VEVENT
DTSTART;TZID=Asia/Singapore:20231109T130000
DTEND;TZID=Asia/Singapore:20231109T160000
DTSTAMP:20260425T100910
CREATED:20230726T045952Z
LAST-MODIFIED:20230726T045952Z
UID:10000104-1699534800-1699545600@wmi.edu.sg
SUMMARY:Certified Private Banker (CPB) Level 1 - Digital Wealth Management
DESCRIPTION:
URL:https://wmi.edu.sg/wmi-event/certified-private-banker-cpb-level-1-digital-wealth-management/
CATEGORIES:Private Banking
END:VEVENT
BEGIN:VEVENT
DTSTART;VALUE=DATE:20231117
DTEND;VALUE=DATE:20231118
DTSTAMP:20260425T100910
CREATED:20230726T050213Z
LAST-MODIFIED:20230726T050437Z
UID:10000105-1700179200-1700265599@wmi.edu.sg
SUMMARY:Certified Private Banker (CPB) Level 1 - Investment Advisory
DESCRIPTION:
URL:https://wmi.edu.sg/wmi-event/certified-private-banker-cpb-level-1-investment-advisory-2/
CATEGORIES:Private Banking
END:VEVENT
BEGIN:VEVENT
DTSTART;VALUE=DATE:20231123
DTEND;VALUE=DATE:20231124
DTSTAMP:20260425T100910
CREATED:20240111T035944Z
LAST-MODIFIED:20241011T032927Z
UID:10000213-1700697600-1700783999@wmi.edu.sg
SUMMARY:Next Gen Conversations: Improving Intergenerational Dynamics through Candour\, Curiosity and Compassion
DESCRIPTION:A generational shift is occurring in Asian family offices and family business\, with the rise of a next generation of wealth owners\, who are rethinking the concept of wealth ownership through the lens of tech\, environmental awareness and positive social impact. This can sometimes bring about challenges across multiple generations and effective intergenerational communication plays a huge role in how businesses grow\, diversify and innovate. \n  \nParticipants heard from our panel on topics ranging from interpersonal relationships to decision-making\, understanding how each generation thinks is essential. Our panelists will share about how honest conversations\, a desire to learn and deep empathy impacts their experiences in communicating across generations. \n  \nSpeaker(s): \n\nMs Rebekah Lin\nMr Ang Ziqian\nMs Sandhya Aswani\nMr Jeremy Nguyen-Phuong
URL:https://wmi.edu.sg/wmi-event/next-gen-conversations/
CATEGORIES:GFO-Circle Events,Events
ATTACH;FMTTYPE=image/jpeg:https://wmi.edu.sg/wp-content/uploads/2024/01/Next-Gen-Conversations-Improving-Intergenerational-Dynamics-through-Candour-Curiosity-and-Compassion​.jpg
END:VEVENT
BEGIN:VEVENT
DTSTART;VALUE=DATE:20231130
DTEND;VALUE=DATE:20231201
DTSTAMP:20260425T100910
CREATED:20240111T040226Z
LAST-MODIFIED:20241011T033041Z
UID:10000214-1701302400-1701388799@wmi.edu.sg
SUMMARY:IPP Roundtable Series: Are Donor-Advised Funds the Future of Giving in Singapore and Beyond Trends and Insights on the Ground
DESCRIPTION:Participants discussed the future of DAFs within Singapore and assessed opportunities\, challenges\, and innovations DAFs can offer in propelling Singapore’s vision to be Asia’s philanthropic hub. We invited experts and professionals who convened in a technical workshop setting and heard their views\, insights and recommendations to co-create a vibrant and robust DAF ecosystem in Singapore\, for Asia. Discussion points included “How are DAFs relevant for Singapore’s aspiration as a philanthropic hub?” and “What are some areas of opportunities and challenges in creating a robust and diverse DAF ecosystem?”. \n  \nSpeaker(s): \n\nMs Theresa Cheong\nMs Joyce Teo\nMs Audrey Ng
URL:https://wmi.edu.sg/wmi-event/ipp-roundtable-series-donor-advised-funds/
CATEGORIES:GFO-Circle Events,IPP Forum,Events
ATTACH;FMTTYPE=image/jpeg:https://wmi.edu.sg/wp-content/uploads/2024/01/IPP-Roundtable-Series-Are-Donor-Advised-Funds-the-Future-of-Giving-in-Singapore-and-Beyond-Trends-and-Insights-on-the-Ground​.jpg
END:VEVENT
END:VCALENDAR