BEGIN:VCALENDAR
VERSION:2.0
PRODID:-//WMI - ECPv6.15.17.1//NONSGML v1.0//EN
CALSCALE:GREGORIAN
METHOD:PUBLISH
X-ORIGINAL-URL:https://wmi.edu.sg
X-WR-CALDESC:Events for WMI
REFRESH-INTERVAL;VALUE=DURATION:PT1H
X-Robots-Tag:noindex
X-PUBLISHED-TTL:PT1H
BEGIN:VTIMEZONE
TZID:Asia/Singapore
BEGIN:STANDARD
TZOFFSETFROM:+0800
TZOFFSETTO:+0800
TZNAME:+08
DTSTART:20230101T000000
END:STANDARD
END:VTIMEZONE
BEGIN:VEVENT
DTSTART;VALUE=DATE:20240702
DTEND;VALUE=DATE:20240712
DTSTAMP:20260420T145304
CREATED:20230613T160000Z
LAST-MODIFIED:20240605T033724Z
UID:10000053-1719878400-1720742399@wmi.edu.sg
SUMMARY:Certificate in Trust Services
DESCRIPTION:
URL:https://wmi.edu.sg/wmi-event/certificate-in-trust-services/
CATEGORIES:Trust Services
END:VEVENT
BEGIN:VEVENT
DTSTART;VALUE=DATE:20240708
DTEND;VALUE=DATE:20240711
DTSTAMP:20260420T145304
CREATED:20230613T160000Z
LAST-MODIFIED:20231016T063119Z
UID:10000010-1720396800-1720655999@wmi.edu.sg
SUMMARY:Advanced Diploma in Wealth Management - Client Relationship Management
DESCRIPTION:
URL:https://wmi.edu.sg/wmi-event/advanced-diploma-in-wealth-management-client-relationship-management/
CATEGORIES:Diploma Programmes,Wealth Management
END:VEVENT
BEGIN:VEVENT
DTSTART;TZID=Asia/Singapore:20240716T173000
DTEND;TZID=Asia/Singapore:20240716T190000
DTSTAMP:20260420T145304
CREATED:20240621T022133Z
LAST-MODIFIED:20241029T235317Z
UID:10000239-1721151000-1721156400@wmi.edu.sg
SUMMARY:Strategic Governance and Investment Insights for Family Offices
DESCRIPTION:One of the strengths of the GFO Circle is the peer sharing and learning\, based on the insights of our members. \n  \nJoin us for the next GFO Partners Circle Knowledge-Based Learning Series session\, to explore the latest governance and investment strategies shaping family offices in the US.The fireside chat will explore insights from the JP Morgan Global Family Office Survey Report 2024 on key topics including governance and decision making\, investment management\, succession planning and family office operations. \n  \nThe evening will feature global industry experts from J.P. Morgan Private Bank\, one of the Corporate Members of the GFO Circle. \n  \nHear from Elisa Shevlin Rizzo\, Managing Director\, Head of Family Office Advisory\, US & Antoine des Noyers\, Executive Director\, Southeast Asia Head of Alternative Investments\, Singapore in an interactive discussion moderated by Brian San\, Executive Director\, Programmes and Strategic Development\, WMI. They will address a critical need identified across global families – family governance and succession planning and share real-world examples and best practices that have worked well for US families. We will delve and consider strategies across global families to prepare the rising generation amidst the challenges and the opportunities identified in the Report. In addition\, we will also examine one of the top takeaways from the Report – 45% average allocation to alternatives and discuss how large institutions & pension funds approach alternatives – how that differs from the approaches from family offices\, and deep-dive into the due diligence and manager selection\, amongst others. \n  \nThis session will be especially helpful for any of our members who want to learn about relevant good practices the US and globally and how they may be relevant and tailored towards family offices in Asia. \n  \nGet in touch with our GFO Circle Team for event enquiries
URL:https://wmi.edu.sg/wmi-event/governance-investment-insight-family-offices/
CATEGORIES:GFO-Circle Events
ATTACH;FMTTYPE=image/jpeg:https://wmi.edu.sg/wp-content/uploads/2024/06/Strategic-Governance-and-Investment-Insights-for-Family-Offices-scaled.jpg
END:VEVENT
BEGIN:VEVENT
DTSTART;VALUE=DATE:20240802
DTEND;VALUE=DATE:20240803
DTSTAMP:20260420T145304
CREATED:20240104T072834Z
LAST-MODIFIED:20240104T075201Z
UID:10000207-1722556800-1722643199@wmi.edu.sg
SUMMARY:Certified Private Banker (CPB) Level 3 - Managing Business Performance
DESCRIPTION:
URL:https://wmi.edu.sg/wmi-event/certified-private-banker-cpb-level-3-managing-business-performance/
CATEGORIES:Private Banking
END:VEVENT
BEGIN:VEVENT
DTSTART;VALUE=DATE:20240812
DTEND;VALUE=DATE:20240815
DTSTAMP:20260420T145304
CREATED:20230810T101001Z
LAST-MODIFIED:20231016T062716Z
UID:10000172-1723420800-1723679999@wmi.edu.sg
SUMMARY:Advanced Diploma in Wealth Management - Cross Banking
DESCRIPTION:
URL:https://wmi.edu.sg/wmi-event/advanced-diploma-in-wealth-management-cross-banking-aug-2024/
CATEGORIES:Diploma Programmes,Wealth Management
END:VEVENT
BEGIN:VEVENT
DTSTART;TZID=Asia/Singapore:20240815T163000
DTEND;TZID=Asia/Singapore:20240815T183000
DTSTAMP:20260420T145304
CREATED:20240222T034701Z
LAST-MODIFIED:20241029T234641Z
UID:10000229-1723739400-1723746600@wmi.edu.sg
SUMMARY:Family Office Investments: AI & Climate Tech investment opportunities
DESCRIPTION:Embark on a venture into the world of AI and Climate Tech opportunities. Hear from leading family offices and VC firms at this session on transformative possibilities\, where AI technologies redefine industries and reshape our future\, and innovation meets sustainability\, offering a roadmap for family offices seeking sustainable and impactful investment avenues. \n  \nAGENDA \nPanel #1: Venturing into VC: Best Practices for Family Offices  \nVC firms continuously discover and nurture groundbreaking technologies with high-growth potential\, unlocking long-term value for investors. Yet\, VC remains a relatively new asset class for many family offices. In this session\, panelists will:\n– Examine considerations and challenges for family offices starting to build their VC portfolio\n– Explore why the VC asset class remains attractive in the current market environment\n– Discuss why portfolio value creation efforts by VCs are important to drive fund returns \n  \nPanel #2: Amplifying Opportunity: Artificial Intelligence  \nTechnology is evolving at an unprecedented pace\, with each innovation reshaping the way we work and live. The rapid acceleration of AI has led to an influx of VC investment\, which is likely to continue in the coming months and years.  In this session\, panelists will discuss: \n– Where are the biggest AI-driven opportunities globally and in Asia?\n– Which areas within AI are more investible?\n– How can family offices obtain exposure to opportunities in AI? \n  \nDrinks Reception & Networking \n   \nLineup of speakers:  \nRaj Ganguly\, Co-Founder & Co-CEO of B-Capital \nAngela Huang\, Managing Director\, EE Capital \nLesan Tsai\, Managing Director & Head of Private Investments\, Kiri Capital \n  \nGet in touch with our GFO Circle Team for event enquiries
URL:https://wmi.edu.sg/wmi-event/family-office-investments-ai-climate-tech-investment-opportunities/
LOCATION:Wealth Management Institute\, One Marina Boulevard #16-01\, 018989\, Singapore
CATEGORIES:GFO-Circle Events
ATTACH;FMTTYPE=image/jpeg:https://wmi.edu.sg/wp-content/uploads/2024/10/Family-Office-Investments-AI-Climate-Tech-investment-opportunities-scaled.jpg
END:VEVENT
BEGIN:VEVENT
DTSTART;VALUE=DATE:20240819
DTEND;VALUE=DATE:20240822
DTSTAMP:20260420T145304
CREATED:20230801T041424Z
LAST-MODIFIED:20240326T013743Z
UID:10000133-1724025600-1724284799@wmi.edu.sg
SUMMARY:Certificate for Family Office Advisors for Greater China Markets
DESCRIPTION:
URL:https://wmi.edu.sg/wmi-event/certificate-for-family-office-advisors-for-greater-china-markets-2/
CATEGORIES:Family Office
END:VEVENT
BEGIN:VEVENT
DTSTART;VALUE=DATE:20240823
DTEND;VALUE=DATE:20240828
DTSTAMP:20260420T145304
CREATED:20230801T035736Z
LAST-MODIFIED:20240426T012811Z
UID:10000130-1724371200-1724803199@wmi.edu.sg
SUMMARY:Certificate for Family Office Advisors for Greater China Markets
DESCRIPTION:
URL:https://wmi.edu.sg/wmi-event/certificate-for-family-office-advisors-for-greater-china-markets/
CATEGORIES:Family Office
END:VEVENT
BEGIN:VEVENT
DTSTART;VALUE=DATE:20240826
DTEND;VALUE=DATE:20240827
DTSTAMP:20260420T145304
CREATED:20231117T033430Z
LAST-MODIFIED:20240119T024258Z
UID:10000201-1724630400-1724716799@wmi.edu.sg
SUMMARY:Certified Service Adviser (CSA) Level 1 - Successful Account\, Client and Stakeholder Management
DESCRIPTION:
URL:https://wmi.edu.sg/wmi-event/certified-service-adviser-csa-level-1-successful-account-client-and-stakeholder-management/
CATEGORIES:Private Banking
END:VEVENT
BEGIN:VEVENT
DTSTART;TZID=Asia/Singapore:20240829T170000
DTEND;TZID=Asia/Singapore:20240829T193000
DTSTAMP:20260420T145304
CREATED:20240729T021511Z
LAST-MODIFIED:20241011T040454Z
UID:10000243-1724950800-1724959800@wmi.edu.sg
SUMMARY:Uncovering Opportunities for High Impact
DESCRIPTION:The Family Office Discovery Series is an initiative by WMI to help family offices better navigate Singapore’s dynamic ecosystem. This Series enables family offices to connect with like-minded peers within areas of interest\, while providing a systematic introduction to various parts of the investment and social impact communities. \n  \nThis special edition has been tailored to family principals and SFO professionals who are eager to explore Asia’s dynamic philanthropy and impact capital landscape\, and understand the latest trends. \n  \nCommencing with sharing and insights from EY on Singapore’s Philanthropy Tax Incentive Scheme (PTIS)\, this interactive session will set the stage for discussions on effective capital deployment into high-impact opportunities. Participants will also explore a range of tools and platforms that funders can consider when building a strategic impact portfolio across the region. \n  \nWe warmly invite you to join us for an evening of peer sharing and knowledge exchange. \n  \nThe Family Office Discovery Series is proudly organised by the Wealth Management Institute (WMI)\, and hosted by the Global-Asia Family Office (GFO) Circle and the Asia Centre for Changemakers (ACC) that build capabilities and communities in the family office and impact capital sectors. \n 
URL:https://wmi.edu.sg/wmi-event/uncovering-opportunities-for-high-impact/
LOCATION:Wealth Management Institute\, One Marina Boulevard #16-01\, 018989\, Singapore
CATEGORIES:GFO-Circle Events,ACC Events
ATTACH;FMTTYPE=image/jpeg:https://wmi.edu.sg/wp-content/uploads/2024/07/Uncovering-Opportunities-for-High-Impact.jpg
END:VEVENT
BEGIN:VEVENT
DTSTART;VALUE=DATE:20240902
DTEND;VALUE=DATE:20240907
DTSTAMP:20260420T145304
CREATED:20230731T082123Z
LAST-MODIFIED:20240729T055922Z
UID:10000128-1725235200-1725667199@wmi.edu.sg
SUMMARY:Certificate for Family Office Advisors – Advanced
DESCRIPTION:
URL:https://wmi.edu.sg/wmi-event/certificate-for-family-office-advisors-advanced/
CATEGORIES:Family Office
END:VEVENT
BEGIN:VEVENT
DTSTART;VALUE=DATE:20240905
DTEND;VALUE=DATE:20240906
DTSTAMP:20260420T145304
CREATED:20240104T073100Z
LAST-MODIFIED:20240104T075053Z
UID:10000208-1725494400-1725580799@wmi.edu.sg
SUMMARY:Certified Private Banker (CPB) Level 3 - Managing Change
DESCRIPTION:
URL:https://wmi.edu.sg/wmi-event/certified-private-banker-cpb-level-3-managing-change/
CATEGORIES:Private Banking
END:VEVENT
BEGIN:VEVENT
DTSTART;VALUE=DATE:20240906
DTEND;VALUE=DATE:20240907
DTSTAMP:20260420T145304
CREATED:20231117T030759Z
LAST-MODIFIED:20240729T060034Z
UID:10000200-1725580800-1725667199@wmi.edu.sg
SUMMARY:Certificate in Environment and Social Governance for Family Offices (Intake 3)
DESCRIPTION:
URL:https://wmi.edu.sg/wmi-event/certificate-in-environment-and-social-governance-for-family-offices/
CATEGORIES:Family Office
END:VEVENT
BEGIN:VEVENT
DTSTART;VALUE=DATE:20240916
DTEND;VALUE=DATE:20240917
DTSTAMP:20260420T145304
CREATED:20240307T150609Z
LAST-MODIFIED:20240705T003903Z
UID:10000236-1726444800-1726531199@wmi.edu.sg
SUMMARY:Family Office Risk Management & Controls
DESCRIPTION:
URL:https://wmi.edu.sg/wmi-event/certificate-for-family-office-practitioner-family-office-risk-management-controls/
CATEGORIES:Family Office
END:VEVENT
BEGIN:VEVENT
DTSTART;VALUE=DATE:20240924
DTEND;VALUE=DATE:20241001
DTSTAMP:20260420T145304
CREATED:20231117T033702Z
LAST-MODIFIED:20231117T033831Z
UID:10000202-1727136000-1727740799@wmi.edu.sg
SUMMARY:Priority & Retail Banking Certified Adviser (PRCA) Level 2 - Client Advisory (Sales Strategy)
DESCRIPTION:
URL:https://wmi.edu.sg/wmi-event/priority-retail-banking-certified-adviser-prca-level-2-client-advisory-sales-strategy/
CATEGORIES:Wealth Management
END:VEVENT
BEGIN:VEVENT
DTSTART;VALUE=DATE:20240925
DTEND;VALUE=DATE:20241001
DTSTAMP:20260420T145304
CREATED:20231117T033950Z
LAST-MODIFIED:20231117T034013Z
UID:10000203-1727222400-1727740799@wmi.edu.sg
SUMMARY:Priority & Retail Banking Certified Adviser (PRCA) Level 2 - Wealth Advisory (Client Investment Suitability and Product Solutions)
DESCRIPTION:
URL:https://wmi.edu.sg/wmi-event/priority-retail-banking-certified-adviser-prca-level-2-wealth-advisory-client-investment-suitability-and-product-solutions/
CATEGORIES:Wealth Management
END:VEVENT
BEGIN:VEVENT
DTSTART;VALUE=DATE:20240930
DTEND;VALUE=DATE:20241001
DTSTAMP:20260420T145304
CREATED:20230613T160000Z
LAST-MODIFIED:20240710T043929Z
UID:10000013-1727654400-1727740799@wmi.edu.sg
SUMMARY:Certificate in Investing in Innovation
DESCRIPTION:
URL:https://wmi.edu.sg/wmi-event/investing-in-innovation/
CATEGORIES:Family Office
END:VEVENT
BEGIN:VEVENT
DTSTART;VALUE=DATE:20241001
DTEND;VALUE=DATE:20241003
DTSTAMP:20260420T145304
CREATED:20230801T043409Z
LAST-MODIFIED:20240729T053908Z
UID:10000138-1727740800-1727913599@wmi.edu.sg
SUMMARY:Certificate for Family Office Practitioner - Family Office Management and Operations
DESCRIPTION:
URL:https://wmi.edu.sg/wmi-event/certified-family-office-practitioner-certificate-in-family-office-operations/
CATEGORIES:Family Office
END:VEVENT
BEGIN:VEVENT
DTSTART;VALUE=DATE:20241004
DTEND;VALUE=DATE:20241005
DTSTAMP:20260420T145304
CREATED:20230801T043114Z
LAST-MODIFIED:20240729T054003Z
UID:10000137-1728000000-1728086399@wmi.edu.sg
SUMMARY:Certificate for Family Office Practitioner - Managing Family Dynamics
DESCRIPTION:
URL:https://wmi.edu.sg/wmi-event/certified-family-office-practitioner-certificate-in-managing-family-dynamics/
CATEGORIES:Family Office
END:VEVENT
BEGIN:VEVENT
DTSTART;VALUE=DATE:20241008
DTEND;VALUE=DATE:20241009
DTSTAMP:20260420T145304
CREATED:20230731T075439Z
LAST-MODIFIED:20240528T014648Z
UID:10000126-1728345600-1728431999@wmi.edu.sg
SUMMARY:Certificate in Introduction to ESG Advisory
DESCRIPTION:
URL:https://wmi.edu.sg/wmi-event/certificate-in-introduction-to-esg-advisory/
CATEGORIES:Family Office,ESG
END:VEVENT
BEGIN:VEVENT
DTSTART;VALUE=DATE:20241009
DTEND;VALUE=DATE:20241010
DTSTAMP:20260420T145304
CREATED:20240806T144000Z
LAST-MODIFIED:20240806T144022Z
UID:10000244-1728432000-1728518399@wmi.edu.sg
SUMMARY:Certificate in Long-Term Investing
DESCRIPTION:
URL:https://wmi.edu.sg/wmi-event/certificate-in-long-term-investing-2/
CATEGORIES:Family Office
END:VEVENT
BEGIN:VEVENT
DTSTART;VALUE=DATE:20241010
DTEND;VALUE=DATE:20241011
DTSTAMP:20260420T145304
CREATED:20231117T034151Z
LAST-MODIFIED:20231117T034151Z
UID:10000204-1728518400-1728604799@wmi.edu.sg
SUMMARY:Priority & Retail Banking Certified Adviser (PRCA) Level 2 - Wealth Advisory (Financial and Investment Planning)
DESCRIPTION:
URL:https://wmi.edu.sg/wmi-event/priority-retail-banking-certified-adviser-prca-level-2-wealth-advisory-financial-and-investment-planning/
CATEGORIES:Wealth Management
END:VEVENT
BEGIN:VEVENT
DTSTART;VALUE=DATE:20241011
DTEND;VALUE=DATE:20241012
DTSTAMP:20260420T145304
CREATED:20231117T034305Z
LAST-MODIFIED:20231117T034305Z
UID:10000205-1728604800-1728691199@wmi.edu.sg
SUMMARY:Priority & Retail Banking Certified Adviser (PRCA) Level 2 - Client Advisory (Relationship Management)
DESCRIPTION:
URL:https://wmi.edu.sg/wmi-event/priority-retail-banking-certified-adviser-prca-level-2-client-advisory-relationship-management/
CATEGORIES:Wealth Management
END:VEVENT
BEGIN:VEVENT
DTSTART;VALUE=DATE:20241011
DTEND;VALUE=DATE:20241012
DTSTAMP:20260420T145304
CREATED:20240216T025619Z
LAST-MODIFIED:20240710T004415Z
UID:10000220-1728604800-1728691199@wmi.edu.sg
SUMMARY:Certificate in Introduction to Climate Change and Decarbonisation Strategies
DESCRIPTION:
URL:https://wmi.edu.sg/wmi-event/climate-change-decarbonisation-strategies/
CATEGORIES:ESG
END:VEVENT
BEGIN:VEVENT
DTSTART;VALUE=DATE:20241011
DTEND;VALUE=DATE:20241012
DTSTAMP:20260420T145304
CREATED:20240216T025959Z
LAST-MODIFIED:20240710T004438Z
UID:10000221-1728604800-1728691199@wmi.edu.sg
SUMMARY:Certified Private Banker (CPB) Level 2 - Certificate in Introduction to Climate Change and Decarbonisation Strategies
DESCRIPTION:
URL:https://wmi.edu.sg/wmi-event/certified-private-banker-cpb-level-2-climate-change-decarbonisation-strategies/
CATEGORIES:Private Banking
END:VEVENT
BEGIN:VEVENT
DTSTART;VALUE=DATE:20241011
DTEND;VALUE=DATE:20241012
DTSTAMP:20260420T145304
CREATED:20240216T030401Z
LAST-MODIFIED:20240710T004432Z
UID:10000222-1728604800-1728691199@wmi.edu.sg
SUMMARY:Certified Private Banker (CPB) Level 1 - Certificate in Introduction to Climate Change and Decarbonisation Strategies
DESCRIPTION:
URL:https://wmi.edu.sg/wmi-event/certified-private-banker-cpb-level-1-climate-change-decarbonisation-strategies/
CATEGORIES:Private Banking
END:VEVENT
BEGIN:VEVENT
DTSTART;VALUE=DATE:20241011
DTEND;VALUE=DATE:20241023
DTSTAMP:20260420T145304
CREATED:20230801T044051Z
LAST-MODIFIED:20240605T033700Z
UID:10000139-1728604800-1729641599@wmi.edu.sg
SUMMARY:Advanced Certificate in Trust Services
DESCRIPTION:
URL:https://wmi.edu.sg/wmi-event/advanced-certificate-in-trust-services/
CATEGORIES:Trust Services
END:VEVENT
BEGIN:VEVENT
DTSTART;VALUE=DATE:20241021
DTEND;VALUE=DATE:20241023
DTSTAMP:20260420T145304
CREATED:20230731T081008Z
LAST-MODIFIED:20240108T024528Z
UID:10000127-1729468800-1729641599@wmi.edu.sg
SUMMARY:Priority & Retail Banking Certified Adviser (PRCA) Level 3 - Growing Your Business
DESCRIPTION:
URL:https://wmi.edu.sg/wmi-event/priority-retail-banking-certified-adviser-prca-level-3-growing-your-business/
CATEGORIES:Wealth Management
END:VEVENT
BEGIN:VEVENT
DTSTART;VALUE=DATE:20241021
DTEND;VALUE=DATE:20241023
DTSTAMP:20260420T145304
CREATED:20230801T041726Z
LAST-MODIFIED:20240812T022402Z
UID:10000134-1729468800-1729641599@wmi.edu.sg
SUMMARY:Certificate in Philanthropy and Social Impact
DESCRIPTION:
URL:https://wmi.edu.sg/wmi-event/certificate-in-philanthropy-and-social-impact/
CATEGORIES:Family Office
END:VEVENT
BEGIN:VEVENT
DTSTART;TZID=Asia/Singapore:20241022T180000
DTEND;TZID=Asia/Singapore:20241022T193000
DTSTAMP:20260420T145304
CREATED:20241003T015552Z
LAST-MODIFIED:20241007T012207Z
UID:10000246-1729620000-1729625400@wmi.edu.sg
SUMMARY:Seeking Asia's Social Unicorns
DESCRIPTION:  \n \n  \nSpeaker \n  \n \n 
URL:https://wmi.edu.sg/wmi-event/seeking-asia-social-unicorns/
LOCATION:Wealth Management Institute\, One Marina Boulevard #16-01\, 018989\, Singapore
CATEGORIES:Events
ATTACH;FMTTYPE=image/png:https://wmi.edu.sg/wp-content/uploads/2024/10/Website-Events-Feature-Images.png
END:VEVENT
END:VCALENDAR