BEGIN:VCALENDAR
VERSION:2.0
PRODID:-//WMI - ECPv6.15.17.1//NONSGML v1.0//EN
CALSCALE:GREGORIAN
METHOD:PUBLISH
X-ORIGINAL-URL:https://wmi.edu.sg
X-WR-CALDESC:Events for WMI
REFRESH-INTERVAL;VALUE=DURATION:PT1H
X-Robots-Tag:noindex
X-PUBLISHED-TTL:PT1H
BEGIN:VTIMEZONE
TZID:Asia/Singapore
BEGIN:STANDARD
TZOFFSETFROM:+0800
TZOFFSETTO:+0800
TZNAME:+08
DTSTART:20220101T000000
END:STANDARD
END:VTIMEZONE
BEGIN:VEVENT
DTSTART;TZID=Asia/Singapore:20230628T170000
DTEND;TZID=Asia/Singapore:20230628T180000
DTSTAMP:20260425T192221
CREATED:20230504T160000Z
LAST-MODIFIED:20230803T072142Z
UID:10000033-1687971600-1687975200@wmi.edu.sg
SUMMARY:Online Info Sessions – Certified Compliance Officer
DESCRIPTION:Get a chance to speak with our team in an online information session to learn more about WMI’s Certified Compliance Officer programme. We are happy to offer an overview of the programme and any enquiries you may have about WMI in this one-hour virtual session. \n  \nRegister your interest here.
URL:https://wmi.edu.sg/wmi-event/online-info-sessions-certified-compliance-officer-for-jun-2023/
CATEGORIES:Events
ATTACH;FMTTYPE=image/png:https://wmi.edu.sg/wp-content/uploads/2023/05/Events-Certified-Compliance-Officer-Online-Info-Session.png
END:VEVENT
END:VCALENDAR