BEGIN:VCALENDAR
VERSION:2.0
PRODID:-//WMI - ECPv6.15.17.1//NONSGML v1.0//EN
CALSCALE:GREGORIAN
METHOD:PUBLISH
X-ORIGINAL-URL:https://wmi.edu.sg
X-WR-CALDESC:Events for WMI
REFRESH-INTERVAL;VALUE=DURATION:PT1H
X-Robots-Tag:noindex
X-PUBLISHED-TTL:PT1H
BEGIN:VTIMEZONE
TZID:Asia/Singapore
BEGIN:STANDARD
TZOFFSETFROM:+0800
TZOFFSETTO:+0800
TZNAME:+08
DTSTART:20230101T000000
END:STANDARD
END:VTIMEZONE
BEGIN:VEVENT
DTSTART;VALUE=DATE:20240301
DTEND;VALUE=DATE:20240331
DTSTAMP:20260421T043456
CREATED:20230725T174743Z
LAST-MODIFIED:20231013T091445Z
UID:10000087-1709251200-1711843199@wmi.edu.sg
SUMMARY:Certified Private Banker (CPB) Level 1 - Ethical Conduct (Online)
DESCRIPTION:
URL:https://wmi.edu.sg/wmi-event/certified-private-banker-cpb-level-1-ethical-conduct-online/
CATEGORIES:Private Banking
END:VEVENT
BEGIN:VEVENT
DTSTART;VALUE=DATE:20240301
DTEND;VALUE=DATE:20240331
DTSTAMP:20260421T043456
CREATED:20230725T175812Z
LAST-MODIFIED:20231013T091559Z
UID:10000088-1709251200-1711843199@wmi.edu.sg
SUMMARY:Certified Private Banker (CPB) Level 2 - Ethical Conduct
DESCRIPTION:
URL:https://wmi.edu.sg/wmi-event/certified-private-banker-cpb-level-2-ethical-conduct/
CATEGORIES:Private Banking
END:VEVENT
BEGIN:VEVENT
DTSTART;TZID=Asia/Singapore:20240301T170000
DTEND;TZID=Asia/Singapore:20240301T190000
DTSTAMP:20260421T043456
CREATED:20240222T024840Z
LAST-MODIFIED:20241029T235528Z
UID:10000225-1709312400-1709319600@wmi.edu.sg
SUMMARY:Family Offices and Global Impact Opportunities with the World Bank
DESCRIPTION:In the current investment environment\, where the fusion of financial strategies andEnvironmental\, Social\, and Governance (ESG) investments have become imperatives for driving sustainable growth\, the Wealth Management Institute (WMI) is delighted to host an illuminating session with Anshula Kant\, the Managing Director and Chief Financial Officer of the World Bank. This session aims to highlight key impact finance trends\, share key insights from the World Bank’s work around the globe and highlight opportunities for Family Offices to collaborate with the WorldBank on initiatives such as outcome bonds\, blended finance\, and other instruments aimed at fostering global development and sustainability. \n  \nAnshula Kant will lead the discussion by introducing key impact finance trends\, and key insights and learnings from the World Bank’s work around the globe. She will also cover impact investment opportunities with the World Bank\, emphasising their role in mobilising private capital towards development. She will delineate the WorldBank’s strategic approach towards integrating these financial instruments into their broader agenda for addressing global challenges\, highlighting successful case studies where such collaborations have led to tangible\, positive outcomes in developing countries. \n  \nGet in touch with our GFO Circle Team for event enquiries
URL:https://wmi.edu.sg/wmi-event/family-offices-and-global-impact-opportunities-with-the-world-bank/
CATEGORIES:GFO-Circle Events
ATTACH;FMTTYPE=image/png:https://wmi.edu.sg/wp-content/uploads/2024/02/Family-Offices-and-Global-Impact-Opportunities-with-the-World-Bank-Chief-Financial-Officer.png
END:VEVENT
END:VCALENDAR