BEGIN:VCALENDAR
VERSION:2.0
PRODID:-//WMI - ECPv6.15.17.1//NONSGML v1.0//EN
CALSCALE:GREGORIAN
METHOD:PUBLISH
X-ORIGINAL-URL:https://wmi.edu.sg
X-WR-CALDESC:Events for WMI
REFRESH-INTERVAL;VALUE=DURATION:PT1H
X-Robots-Tag:noindex
X-PUBLISHED-TTL:PT1H
BEGIN:VTIMEZONE
TZID:Asia/Singapore
BEGIN:STANDARD
TZOFFSETFROM:+0800
TZOFFSETTO:+0800
TZNAME:+08
DTSTART:20220101T000000
END:STANDARD
END:VTIMEZONE
BEGIN:VEVENT
DTSTART;VALUE=DATE:20230928
DTEND;VALUE=DATE:20231003
DTSTAMP:20260425T195853
CREATED:20230726T032932Z
LAST-MODIFIED:20230726T040755Z
UID:10000094-1695859200-1696291199@wmi.edu.sg
SUMMARY:Certified Private Banker (CPB) Level 2 - Client Relationship Management
DESCRIPTION:
URL:https://wmi.edu.sg/wmi-event/certified-private-banker-cpb-level-2-client-relationship-management/
CATEGORIES:Private Banking
END:VEVENT
END:VCALENDAR