BEGIN:VCALENDAR
VERSION:2.0
PRODID:-//WMI - ECPv6.15.17.1//NONSGML v1.0//EN
CALSCALE:GREGORIAN
METHOD:PUBLISH
X-WR-CALNAME:WMI
X-ORIGINAL-URL:https://wmi.edu.sg
X-WR-CALDESC:Events for WMI
REFRESH-INTERVAL;VALUE=DURATION:PT1H
X-Robots-Tag:noindex
X-PUBLISHED-TTL:PT1H
BEGIN:VTIMEZONE
TZID:Asia/Singapore
BEGIN:STANDARD
TZOFFSETFROM:+0800
TZOFFSETTO:+0800
TZNAME:+08
DTSTART:20220101T000000
END:STANDARD
END:VTIMEZONE
BEGIN:VEVENT
DTSTART;VALUE=DATE:20230925
DTEND;VALUE=DATE:20230927
DTSTAMP:20260425T193538
CREATED:20230728T100605Z
LAST-MODIFIED:20230803T054713Z
UID:10000113-1695600000-1695772799@wmi.edu.sg
SUMMARY:Advanced Diploma in Asset Management - Introduction to ESG & Sustainable Investing
DESCRIPTION:
URL:https://wmi.edu.sg/wmi-event/advanced-diploma-in-asset-management-introduction-to-esg-sustainable-investing/
CATEGORIES:Diploma Programmes,Investing and Asset Management
END:VEVENT
END:VCALENDAR