BEGIN:VCALENDAR
VERSION:2.0
PRODID:-//WMI - ECPv6.15.17.1//NONSGML v1.0//EN
CALSCALE:GREGORIAN
METHOD:PUBLISH
X-WR-CALNAME:WMI
X-ORIGINAL-URL:https://wmi.edu.sg
X-WR-CALDESC:Events for WMI
REFRESH-INTERVAL;VALUE=DURATION:PT1H
X-Robots-Tag:noindex
X-PUBLISHED-TTL:PT1H
BEGIN:VTIMEZONE
TZID:Asia/Singapore
BEGIN:STANDARD
TZOFFSETFROM:+0800
TZOFFSETTO:+0800
TZNAME:+08
DTSTART:20220101T000000
END:STANDARD
END:VTIMEZONE
BEGIN:VEVENT
DTSTART;TZID=Asia/Singapore:20230424T170000
DTEND;TZID=Asia/Singapore:20230424T190000
DTSTAMP:20260426T073128
CREATED:20230502T160000Z
LAST-MODIFIED:20240202T011319Z
UID:10000038-1682355600-1682362800@wmi.edu.sg
SUMMARY:Investments in Private Equity and Venture Capital for Family Offices
DESCRIPTION:Attracted by opportunities in disruptive technologies and innovative business models\, many family offices are deploying capital into private market investments and start-ups. As they grow their influence in a shifting venture ecosystem\, what skills and resources do family offices need? \n  \nOur panel of experts shared with attendees on how the role of PE/VC can fit in a portfolio\, what family offices hope to achieve and what is the reality\, and what family offices are looking for from their advisors. \n  \nSpeaker(s): \n\nMs Cristina Ventura\nMr Ivan Lew\nMr Patrick Yeo
URL:https://wmi.edu.sg/wmi-event/roundtable-investments-in-private-equity-and-venture-capital-for-family-offices-ambitions-and-realities/
CATEGORIES:GFO-Circle Events,Events
ATTACH;FMTTYPE=image/jpeg:https://wmi.edu.sg/wp-content/uploads/2023/05/PE-VC-For-Family-Office.jpg
END:VEVENT
END:VCALENDAR