BEGIN:VCALENDAR
VERSION:2.0
PRODID:-//WMI - ECPv6.15.17.1//NONSGML v1.0//EN
CALSCALE:GREGORIAN
METHOD:PUBLISH
X-ORIGINAL-URL:https://wmi.edu.sg
X-WR-CALDESC:Events for WMI
REFRESH-INTERVAL;VALUE=DURATION:PT1H
X-Robots-Tag:noindex
X-PUBLISHED-TTL:PT1H
BEGIN:VTIMEZONE
TZID:Asia/Singapore
BEGIN:STANDARD
TZOFFSETFROM:+0800
TZOFFSETTO:+0800
TZNAME:+08
DTSTART:20220101T000000
END:STANDARD
END:VTIMEZONE
BEGIN:VEVENT
DTSTART;TZID=Asia/Singapore:20230911T090000
DTEND;TZID=Asia/Singapore:20230912T180000
DTSTAMP:20260421T035329
CREATED:20230504T160000Z
LAST-MODIFIED:20240202T011217Z
UID:10000030-1694422800-1694541600@wmi.edu.sg
SUMMARY:Global-Asia Family Office Summit 2023
DESCRIPTION:The Global-Asia Family Office (GFO) Summit is a trusted platform that brought together leading family offices\, advisors\, and thought leaders from Asia\, the US\, Europe\, and around the world to convene\, learn from each other\, and address topics including investing\, family office leadership\, and social impact. \n  \nCentered around the theme of ‘Building the New Era of Impact for Family Offices in Asia’\, the Summit in 2023 featured a premier line-up of speakers through interactive keynotes\, plenary sessions\, and masterclasses by family offices and distinguished experts from industry powerhouses. \n  \nParticipants heard directly from leading family offices who shared their first-hand experiences and learned about the most pressing issues and promising opportunities facing family offices at that time. \n  \nSpeaker(s): \n\nDeputy Prime Minister and Coordinating Minister for Economic Policies\, Mr Heng Swee Kiat\nSir Paul Marshall\nMr Ray Dalio\nProf Gao Hao\nand more
URL:https://wmi.edu.sg/wmi-event/global-asia-family-office-summit-2023-sep/
LOCATION:The St. Regis Singapore\, John Jacob Ballroom\, 29 Tanglin Rd\, 247911\, Singapore
CATEGORIES:GFO-Circle Events,Events
ATTACH;FMTTYPE=image/jpeg:https://wmi.edu.sg/wp-content/uploads/2023/05/GFO-Summit-2023-scaled.jpg
END:VEVENT
END:VCALENDAR